BEGIN:VCALENDAR
VERSION:2.0
PRODID:-//wp-events-plugin.com//7.2.3.1//EN
TZID:Europe/Vienna
X-WR-TIMEZONE:Europe/Vienna
BEGIN:VEVENT
UID:669@magixx.at
DTSTART;TZID=Europe/Vienna:20200801T093000
DTEND;TZID=Europe/Vienna:20200801T200000
DTSTAMP:20200731T104607Z
URL:https://www.magixx.at/events/3-salsa-wandern-verbinde-deine-leidenscha
 ften-1-august-2020/
SUMMARY:3. Salsa Wandern mit privatem Garten Picknick - verbinde Deine Leid
 enschaften - 1. August 2020
DESCRIPTION:Die Natur genießen und gleichzeitig einem tollen Hobby nachgeh
 en.\nPROGRAMM ÄNDERUNG\nWandern - Salsa - Bachata - kleine private Garten
 party\nDas Programm für diesen Tag wird allen\, die sich bisher per Mail 
 oder MagiXx Homepage angemeldet haben\, per Mail zugeschickt.
CATEGORIES:Natur + Erlebnis,Party + Tanz,Spezial
END:VEVENT
BEGIN:VTIMEZONE
TZID:Europe/Vienna
X-LIC-LOCATION:Europe/Vienna
BEGIN:DAYLIGHT
DTSTART:20200329T030000
TZOFFSETFROM:+0100
TZOFFSETTO:+0200
TZNAME:CEST
END:DAYLIGHT
END:VTIMEZONE
END:VCALENDAR