BEGIN:VCALENDAR
VERSION:2.0
PRODID:-//wp-events-plugin.com//7.2.3.1//EN
TZID:Europe/Vienna
X-WR-TIMEZONE:Europe/Vienna
BEGIN:VEVENT
UID:670@magixx.at
DTSTART;TZID=Europe/Vienna:20200816T093000
DTEND;TZID=Europe/Vienna:20200816T200000
DTSTAMP:20200731T104316Z
URL:https://www.magixx.at/events/4-salsa-wandern-mit-fluss-picknick-verbin
 de-deine-leidenschaften-16-august-2020/
SUMMARY:4. Salsa Wandern mit Fluss Picknick - verbinde Deine Leidenschaften
  - 16. August 2020
DESCRIPTION:Die Natur genießen und gleichzeitig einem tollen Hobby nachgeh
 en.\nDas ist die vierte Salsa Wanderung mit Salsa Picknick am Fluss.\n\nVe
 rbinde zwei Leidenschaften zu einem tollen Tag.\nSalsa (und auch Bachata) 
 mit einer Wanderung findet das vierte Mal am Sonntag\, 16. August 2020 sta
 tt.\nGetränke und Jause zum Picknick sind inkludiert.\nDiesmal geht es zu
 m Fluss (voraussichtlich ins Waldviertel).\n&nbsp\;\n\nDie dritte Salsa Wa
 nderung geht voraussichtlich ins Waldviertel und dabei gehen wir "in den" 
 und zum Fluss. Lasst euch von diesem besonderen Sommerspecial überraschen
 .\n\nDie Natur genießen und gleichzeitig einem tollen Hobby nachgehen. Di
 e dritte Salsa Wanderung - verbinde zwei Leidenschaften zu einem tollen Ta
 g.\nSalsa (und auch Bachata) mit Wanderung - diesmal mit kühlendem Nass -
  findet nun das dritte Mal am 16. August 2020 statt.\n\nAnmeldung hier erf
 orderlich.\nDer Ablauf\nTreffpunkt 9:30 U6 Siebenhirten (vor der Bäckerei
  Szhin)\nDann Aufteilung auf vorhanden Autos und dann fahren wir etwa 1h30
 . Die reine Gehzeit (diesmal in der Ebene) beträgt etwa 4 Stunden.\nFeste
 s Schuhwerk erforderlich\, Sandalen oder Wasserschuhe (für den Fluss) opt
 imal aber nicht unbedingt nötig.\nAuf den herrlichen Wiesen und wundervol
 len Plätzen wird natürlich wieder getanzt (diesmal mehr weil weniger ans
 trengend und weniger steil \;-).\n\nAuf geeigneten Plätzen wird Salsa\, C
 hacha und Bachata Musik gespielt. Ruedas gibt es leider keine. Für eine J
 ause am Weg (mit Salsa Picknick) wird gesorgt.\n\nDie Rückkehr nach Wien 
 ist für etwa 20:00 geplant.\nBist Du dabei?\nDann melde Dich hier rasch a
 n.\n\nTreffpunkt am 16. August ist um 9:30 bei der Endstation der U6 in Si
 ebenhirten.\nDie Teilnahme kostet diesmal 10 Euro und beinhaltet aber dies
 mal Jause und Getränke beim Salsa-Picknick am Fluss.\n\nIch freue mich au
 f unsere vierte gemeinsame Salsa Wanderung.
ATTACH;FMTTYPE=image/jpeg:https://i0.wp.com/www.magixx.at/wp-content/uploa
 ds/2020/05/Salsa-Wandern-Header-V1.jpg?fit=1239%2C881&ssl=1
CATEGORIES:Natur + Erlebnis,Party + Tanz,Spezial
END:VEVENT
BEGIN:VTIMEZONE
TZID:Europe/Vienna
X-LIC-LOCATION:Europe/Vienna
BEGIN:DAYLIGHT
DTSTART:20200329T030000
TZOFFSETFROM:+0100
TZOFFSETTO:+0200
TZNAME:CEST
END:DAYLIGHT
END:VTIMEZONE
END:VCALENDAR