BEGIN:VCALENDAR
VERSION:2.0
PRODID:-//wp-events-plugin.com//7.2.3.1//EN
TZID:Europe/Vienna
X-WR-TIMEZONE:Europe/Vienna
BEGIN:VEVENT
UID:30@magixx.at
DTSTART;TZID=Europe/Vienna:20130720T090000
DTEND;TZID=Europe/Vienna:20130721T200000
DTSTAMP:20130702T063446Z
URL:https://www.magixx.at/events/abenteuer-flossbauen-im-waldviertel-20-ju
 li/
SUMMARY:Abenteuer Floßbauen im Waldviertel 20. Juli
DESCRIPTION:Verbringe ein oder zwei Tage am wundervollen Ottensteiner Staus
 ee mit Floß bauen\, Spaß und Grill &amp\; Chill . Ein lustiges\, ges
 elliges Erlebnis für Junge und Junggebliebene.\nEin tolles Abenteuer biet
 et sich allen Unternehmungslustigen ab 12. Unter fachkundiger Anleitung w
 ird gemeinsam ein tragfähiges Floß für 6 bis 12 Personen gebaut. "Wir 
 stechen in See" heißt es danach. Gemeinsam erkunden wir mit der schwimmen
 den Insel den Stausee. Bei größeren Gruppen können auch zwei Floße im 
 Wettbewerb gegeneinander antreten. Beim anschließenden Chill &amp\; Grill
  kann über das Erlebte ausreichend gelacht werden.\n\nGemütlich geht es 
 dann weiter. Aber Achtung: spontane Aktionen können den Tag rasch vergehe
 n lassen. Grill &amp\; Chill ist die Abend-Devise und wer Ruhe sucht der f
 indet hier ebenfalls die richtigen Plätze.\n\nEs gibt zahlreiche Möglich
 keiten den Abend und den nächsten Tag zu genießen. Peter\, Entspannungst
 rainer\, Teamtrainer sowie Outdoor- &amp\; Freizeit Guide steht gerne mit
  Rat und Tat zur Seite.\n\nWer das schon lange (wieder) einmal machen woll
 te ist an dem Wochenende richtig aufgehoben. Für Fragen stehe ich sehr g
 erne zur Verfügung.\n\nWeitere Details auch im Artikel -&gt\; zum Floßba
 u-Artikel\nAnmeldung\nsiehe weiter unten\n\nBitte pro Buchung nur eine Per
 son anmelden.\nAnfragen und Anmeldungen nehmen wir auch gerne per Mail ode
 r über das Kontaktformular unter Angabe von Namen\, Adresse\, Geburtsdat
 um entgegen. Bei Anmeldung mehreren Personen empfiehlt sich die Anmeldung 
 per Mail.\n\nÜberweisung des Gesamtbetrages nach der Bestätigung bis 3 T
 age vor dem Floßbau erforderlich.\n\nDie maximale Teilnehmerzahl beträgt
  12 Personen.\nKosten\n39\,- Euro/Person und Tag\, inkl. kalte Getränke
  (Alkoholfrei während dem Floßbau)\n\nÜbernachtung\n\nOptional je nach 
 Wunsch in Zimmer\, Stadl oder Zelt\n(bitte um rasche Reservierung da die
  Plätze begrenzt sind)\nab 15\,- Euro/Nacht inkl. Frühstück\n\nGrillsac
 hen sind selbst mitzunehmen\, Lagerfeuer und Grill wird zur Verfügung ges
 tellt.\n\nKinder und Jugendliche 12 Jahre - 17 Jahre  29\,- Euro\n\nKinde
 r: Floßbau ist auch für Kinder ab 12 Jahren geeignet (nur für Schwimme
 r!). Für alle Kinder sind Schwimmwesten verpflichtend.
ATTACH;FMTTYPE=image/jpeg:https://i0.wp.com/www.magixx.at/wp-content/uploa
 ds/2013/05/flossbau.jpg?fit=750%2C561&ssl=1
CATEGORIES:Natur + Erlebnis,Spezial
LOCATION:Ottenstein\, Ottenstein\, Ottenstein\, Österreich
GEO:48.5970831;15.33368089999999
X-APPLE-STRUCTURED-LOCATION;VALUE=URI;X-ADDRESS=Ottenstein\, Ottenstein\, 
 Österreich;X-APPLE-RADIUS=100;X-TITLE=Ottenstein:geo:48.5970831,15.333680
 89999999
END:VEVENT
BEGIN:VTIMEZONE
TZID:Europe/Vienna
X-LIC-LOCATION:Europe/Vienna
BEGIN:DAYLIGHT
DTSTART:20130331T030000
TZOFFSETFROM:+0100
TZOFFSETTO:+0200
TZNAME:CEST
END:DAYLIGHT
END:VTIMEZONE
END:VCALENDAR