BEGIN:VCALENDAR
VERSION:2.0
PRODID:-//wp-events-plugin.com//7.2.3.1//EN
TZID:Europe/Vienna
X-WR-TIMEZONE:Europe/Vienna
BEGIN:VEVENT
UID:29@magixx.at
DTSTART;TZID=Europe/Vienna:20130706T090000
DTEND;TZID=Europe/Vienna:20130707T200000
DTSTAMP:20130622T184434Z
URL:https://www.magixx.at/events/abenteuer-flossbauen-im-waldviertel-27-ju
 li/
SUMMARY:Abenteuer Flossbauen im Waldviertel 6. Juli - AUSGEBUCHT
DESCRIPTION:Spezialtermin - mit Fotosession\nVerbringe ein oder zwei Tage a
 m wundervollen Ottensteiner Stausee mit Floß bauen\, Spaß und Grill &a
 mp\; Chill . Ein lustiges\, geselliges Erlebnis für Junge und Junggebli
 ebene.\nEin tolles Abenteuer bietet sich allen Unternehmungslustigen ab 1
 2. Unter fachkundiger Anleitung wird gemeinsam ein tragfähiges Floß für
  6 bis 12 Personen gebaut. "Wir stechen in See" heißt es danach. Gemeins
 am erkunden wir mit der schwimmenden Insel den Stausee. Bei größeren Gru
 ppen können auch zwei Floße im Wettbewerb gegeneinander antreten. Beim a
 nschließenden Chill &amp\; Grill kann über das Erlebte ausreichend gelac
 ht werden.\n\nGemütlich geht es dann weiter. Aber Achtung: spontane Aktio
 nen können den Tag rasch vergehen lassen. Grill &amp\; Chill ist die Aben
 d-Devise und wer Ruhe sucht der findet hier ebenfalls die richtigen Plätz
 e.\n\nEs gibt zahlreiche Möglichkeiten den Abend und den nächsten Tag zu
  genießen. Peter\, Entspannungstrainer\, Teamtrainer sowie Outdoor- &amp
 \; Freizeit Guide steht gerne mit Rat und Tat zur Seite.\n\nWer das schon 
 lange (wieder) einmal machen wollte ist an dem Wochenende richtig aufgehob
 en. Für Fragen stehe ich sehr gerne zur Verfügung.\nAnmeldung\nsiehe we
 iter unten\nKosten\n39\,- Euro/Person und Tag\, inkl. kalte Getränke (Al
 koholfrei während dem Floßbau)\n\nÜbernachtung\n\nOptional je nach Wuns
 ch in Zimmer\, Stadl oder Zelt\n(bitte um rasche Reservierung da die Pl
 ätze begrenzt sind)\nab 15\,- Euro/Nacht inkl. Frühstück\n\nGrillsachen
  sind selbst mitzunehmen\, Lagerfeuer und Grill wird zur Verfügung gestel
 lt.\n\nKinder und Jugendliche 12 Jahre - 17 Jahre  29\,- Euro
ATTACH;FMTTYPE=image/jpeg:https://i0.wp.com/www.magixx.at/wp-content/uploa
 ds/2013/05/flossbau.jpg?fit=750%2C561&ssl=1
CATEGORIES:Natur + Erlebnis,Spezial
LOCATION:Ottenstein\, Ottenstein\, Ottenstein\, Österreich
GEO:48.5970831;15.33368089999999
X-APPLE-STRUCTURED-LOCATION;VALUE=URI;X-ADDRESS=Ottenstein\, Ottenstein\, 
 Österreich;X-APPLE-RADIUS=100;X-TITLE=Ottenstein:geo:48.5970831,15.333680
 89999999
END:VEVENT
BEGIN:VTIMEZONE
TZID:Europe/Vienna
X-LIC-LOCATION:Europe/Vienna
BEGIN:DAYLIGHT
DTSTART:20130331T030000
TZOFFSETFROM:+0100
TZOFFSETTO:+0200
TZNAME:CEST
END:DAYLIGHT
END:VTIMEZONE
END:VCALENDAR