BEGIN:VCALENDAR
VERSION:2.0
PRODID:-//wp-events-plugin.com//7.2.3.1//EN
TZID:Europe/Vienna
X-WR-TIMEZONE:Europe/Vienna
BEGIN:VEVENT
UID:32@magixx.at
DTSTART;TZID=Europe/Vienna:20130928T094500
DTEND;TZID=Europe/Vienna:20130928T180000
DTSTAMP:20130828T143901Z
URL:https://www.magixx.at/events/blaue-wanderung-samstag-28-9-2013/
SUMMARY:Blaue Wanderung Samstag 28.9.2013
DESCRIPTION:Die neue Aktivserie BLAUE WANDERUNG verspricht überraschende E
 indrücke\, Ausblicke und Erlebnisse. Wir fahren einfach auf's Blaue ins B
 laue.\nLust auf Spontanität\, Erholung\, Aktivität\, Natur\, Energie\, E
 ntspannung\, Luft und Lust am Leben? Diese Tage dienen genau diesem Zweck
 . Wir treffen uns immer bei der U6 Station Siebenhirten und dann geht es l
 os. Das Ziel ist bis zum Treffen unbekannt. Ich wähle interessante Ziele 
 im Umkreis von max. 1\,5 Stunden aus. Meist wird Wasser\, ein Fluß oder e
 in See dabei sein. Die Wanderungen werden nicht schwierig sein und für J
 edermann und Frau zu schaffen sein. Gehzeiten werden immer etwa 2 x 2 St
 unden sein - mal ein bisschen mehr oder weniger.\n\nWanderausrüstung und 
 Getränke sind bitte mitzunehmen. Eine kalte Jause (Käse\, Wurst\, Brot\
 , Gemüse\, Obst) ist im Preis inkludiert\, daher bitte ich um Anmeldung 
 bis spätestens einen Tag davor. Wer eine Mitfahrgelegenheit braucht bitte
  früher (an-)melden.\n\nEntspannungstools lernen\nWer Lust hat kann bei d
 en kurzen Entspannungssequenzen mitmachen oder sich einfach hinsetzen und 
 die Natur genießen. Die kurzen Naturworkshops beinhalten einfache Entspan
 nungstools und sind für den Alltag optimal geeignet.\n\nBis zu max. 4 Per
 sonen kann ich gegen Kostenbeteiligung mitnehmen.\n\nTermin und Treffpunkt
 \nSamstag. 28. September 2013\, 9:45\nU6 Siebenhirten\, Abfahrt pünktlich
  10:00\nRückkehr ca. 18:00\n\nLeistungen\ngeführte Ein-Tages Freizeittou
 ren\, inklusive Jause\n\nPreis\n10\,-/Person inkl. Jause\n\nAnmeldung\nhie
 r unterhalb\, bitte bis mindestens einen Tag vor der Veranstaltung (Einkau
 f von Speisen und Koordination von Mitfahrgelegenheiten)
ATTACH;FMTTYPE=image/jpeg:https://i0.wp.com/www.magixx.at/wp-content/uploa
 ds/2013/08/MA283324-web.jpg?fit=640%2C480&ssl=1
CATEGORIES:Natur + Erlebnis
END:VEVENT
BEGIN:VTIMEZONE
TZID:Europe/Vienna
X-LIC-LOCATION:Europe/Vienna
BEGIN:DAYLIGHT
DTSTART:20130331T030000
TZOFFSETFROM:+0100
TZOFFSETTO:+0200
TZNAME:CEST
END:DAYLIGHT
END:VTIMEZONE
END:VCALENDAR