BEGIN:VCALENDAR
VERSION:2.0
PRODID:-//wp-events-plugin.com//7.2.3.1//EN
TZID:Europe/Vienna
X-WR-TIMEZONE:Europe/Vienna
BEGIN:VEVENT
UID:33@magixx.at
DTSTART;TZID=Europe/Vienna:20131013T084500
DTEND;TZID=Europe/Vienna:20131013T180000
DTSTAMP:20130828T160359Z
URL:https://www.magixx.at/events/blaue-wanderung-sonntag-13-10-2013/
SUMMARY:Blaue Wanderung Sonntag 13.10.2013
DESCRIPTION:Die neue Aktivserie BLAUE WANDERUNG verspricht überraschende E
 indrücke\, Ausblicke und Erlebnisse. Wir fahren einfach auf's Blaue ins B
 laue. Die für 2013 letzte "Blaue Wanderung"\nLust auf Spontanität\, Erho
 lung\, Aktivität\, Natur\, Energie\, Entspannung\, Luft und Lust am Leben
 ? Diese Tage dienen genau diesem Zweck. Wir treffen uns immer bei der U6 
 Station Siebenhirten und dann geht es los. Das Ziel ist bis zum Treffen un
 bekannt. Ich wähle interessante Ziele im Umkreis von max. 1\,5 Stunden au
 s. Meist wird Wasser\, ein Fluß oder ein See dabei sein. Die Wanderungen
  werden nicht schwierig sein und für Jedermann und Frau zu schaffen sein
 . Gehzeiten werden immer etwa 2 x 2 Stunden sein - mal ein bisschen mehr 
 oder weniger.\n\nWanderausrüstung und Getränke sind bitte mitzunehmen. 
 Eine kalte Jause (Käse\, Wurst\, Brot\, Gemüse\, Obst) ist im Preis ink
 ludiert\, daher bitte ich um Anmeldung bis spätestens einen Tag davor. We
 r eine Mitfahrgelegenheit braucht bitte früher (an-)melden.\n\nEntspannun
 gstools lernen\nWer Lust hat kann bei den kurzen Entspannungssequenzen mit
 machen oder sich einfach hinsetzen und die Natur genießen. Die kurzen Nat
 urworkshops beinhalten einfache Entspannungstools und sind für den Alltag
  optimal geeignet.\n\nBis zu max. 4 Personen kann ich gegen Kostenbeteilig
 ung mitnehmen.\n\nTermin und Treffpunkt\nSonntag. 13. Oktober 2013\, 8:45 
 !!! Achtung früher als sonst\nU6 Siebenhirten\, Abfahrt pünktlich 9:00\n
 Rückkehr ca. 18:00\n\nLeistungen\ngeführte Ein-Tages Freizeittouren\, in
 klusive Jause\n\nPreis\n10\,-/Person inkl. Jause\n\nAnmeldung\nhier unterh
 alb\, bitte bis mindestens einen Tag vor der Veranstaltung (Einkauf von Sp
 eisen und Koordination von Mitfahrgelegenheiten)
ATTACH;FMTTYPE=image/jpeg:https://i0.wp.com/www.magixx.at/wp-content/uploa
 ds/2013/08/MA283324-web.jpg?fit=640%2C480&ssl=1
CATEGORIES:Natur + Erlebnis
END:VEVENT
BEGIN:VTIMEZONE
TZID:Europe/Vienna
X-LIC-LOCATION:Europe/Vienna
BEGIN:DAYLIGHT
DTSTART:20130331T030000
TZOFFSETFROM:+0100
TZOFFSETTO:+0200
TZNAME:CEST
END:DAYLIGHT
END:VTIMEZONE
END:VCALENDAR