BEGIN:VCALENDAR
VERSION:2.0
PRODID:-//wp-events-plugin.com//7.2.3.1//EN
TZID:Europe/Vienna
X-WR-TIMEZONE:Europe/Vienna
BEGIN:VEVENT
UID:399@magixx.at
DTSTART;TZID=Europe/Vienna:20140727T093000
DTEND;TZID=Europe/Vienna:20140727T180000
DTSTAMP:20140630T103413Z
URL:https://www.magixx.at/events/blaue-wanderung-sonntag-27-7-2014/
SUMMARY:Blaue Wanderung Sonntag 27.7.2014
DESCRIPTION:Die nächste BLAUE WANDERUNG verspricht wieder überraschende 
 Eindrücke\, Genuss\, Ausblicke und Erlebnisse. Wir fahren gemeinsam auf'
 s Blaue ins Blaue.\nLust auf Spontanität\, Erholung\, Aktivität\, Natur\
 , Energie\, Entspannung\, Luft und Lust am Leben?\nDiese Tage dienen gena
 u diesem Zweck. Wir treffen uns wieder bei der U6 Station Siebenhirten und
  dann geht es los. Das Ziel ist bis zum Treffen unbekannt. Ich wähle inte
 ressante Ziele im Umkreis von max. etwa 1\,5 Stunden aus. Oft ist Wasser\,
  ein Fluss oder ein See dabei. Die Wanderungen sind nicht schwierig und f
 ür Jedermann und Frau zu schaffen. Gehzeiten sind immer etwa 2 x 2 Stunde
 n – mal ein bisschen mehr oder weniger.\n\nWanderausrüstung inklusive R
 egenschutz und Getränke sind bitte mitzunehmen. Eine kalte Jause (Käse\,
  Wurst\, Brot\, Gemüse\, Obst oder ähnliches) ist im Preis inkludiert\, 
 daher bitte ich um Anmeldung bis spätestens einen Tag davor. Wer eine Mit
 fahrgelegenheit braucht bitte früher (an-)melden.\nEntspannung/Meditation
 /Kraftplätze\nWer Lust hat kann bei den kurzen Entspannungssequenzen/Medi
 tation mitmachen oder sich einfach hinsetzen und die Natur genießen. Die 
 kurzen Naturworkshops beinhalten einfache Entspannungstools und sind für 
 den Alltag optimal geeignet.\nTermin und Treffpunkt\nSonntag. 27. Juli 201
 4\, 9:30\nU6 Siebenhirten\, Abfahrt pünktlich 9:45\nRückkehr ca. 18:00\n
 \nBis zu max. 4 Personen kann ich gegen eine kleine Kostenbeteiligung mitn
 ehmen.\n\nLeistungen\ngeführte Ein-Tages Freizeittour\, für alle geeigne
 t\, normale Gesundheit und körperliche Fitness ausreichend\ninkl. Jause\n
 \nUnkostenbeitrag\nPreis 8\,- plus etwaige Eintritte\n\nAnmeldung\nhier un
 terhalb\, bitte bis mindestens einen Tag vor der Veranstaltung\noder per M
 ail (event@magixx.at)\n\n&nbsp\;
ATTACH;FMTTYPE=image/jpeg:https://i0.wp.com/www.magixx.at/wp-content/uploa
 ds/2013/08/MA283324-web.jpg?fit=640%2C480&ssl=1
CATEGORIES:Natur + Erlebnis
END:VEVENT
BEGIN:VTIMEZONE
TZID:Europe/Vienna
X-LIC-LOCATION:Europe/Vienna
BEGIN:DAYLIGHT
DTSTART:20140330T030000
TZOFFSETFROM:+0100
TZOFFSETTO:+0200
TZNAME:CEST
END:DAYLIGHT
END:VTIMEZONE
END:VCALENDAR