BEGIN:VCALENDAR
VERSION:2.0
PRODID:-//wp-events-plugin.com//7.2.3.1//EN
TZID:Europe/Vienna
X-WR-TIMEZONE:Europe/Vienna
BEGIN:VEVENT
UID:361@magixx.at
DTSTART;TZID=Europe/Vienna:20140504T093000
DTEND;TZID=Europe/Vienna:20140504T174500
DTSTAMP:20140428T071734Z
URL:https://www.magixx.at/events/blaue-wanderung-sonntag-4-5-2014/
SUMMARY:Blaue Wanderung Sonntag 4.5.2014
DESCRIPTION:Die BLAUE WANDERUNG verspricht überraschende Eindrücke\, Gen
 uss\, Ausblicke und Erlebnisse. Wir fahren einfach auf's Blaue ins Blaue.\
 nLust auf Spontanität\, Erholung\, Aktivität\, Natur\, Energie\, Entspan
 nung\, Luft und Lust am Leben? Diese Tage dienen genau diesem Zweck. Wir 
 treffen uns immer bei der U6 Station Siebenhirten und dann geht es los. Da
 s Ziel ist bis zum Treffen unbekannt. Ich wähle interessante Ziele im Umk
 reis von max. 1\,5 Stunden aus. Meist wird Wasser\, ein Fluß oder ein See
  dabei sein. Die Wanderungen werden nicht schwierig sein und für Jederma
 nn und Frau zu schaffen sein. Gehzeiten werden immer etwa 2 x 2 Stunden 
 sein - mal ein bisschen mehr oder weniger.\n\nWanderausrüstung und Geträ
 nke sind bitte mitzunehmen. Wer eine Mitfahrgelegenheit braucht bitte fr
 üher (an-)melden.\n\nBis zu max. 4 Personen kann ich gegen Kostenbeteilig
 ung mitnehmen.\n\nTermin und Treffpunkt\nSonntag\, 4. Mai 2014\, 9:30\nU6 
 Siebenhirten\, Abfahrt pünktlich 9:45\nRückkehr spätestens 18:00\n\nLe
 istungen\ngeführte Ein-Tages Freizeittour\, für alle geeignet\, normale 
 Gesundheit und körperliche Fitness ausreichend\n\nPreis\nfreiwillige Spen
 de\n\nAnmeldung\nhier unterhalb\, bitte bis mindestens einen Tag vor der V
 eranstaltung
ATTACH;FMTTYPE=image/jpeg:https://i0.wp.com/www.magixx.at/wp-content/uploa
 ds/2013/08/MA283324-web.jpg?fit=640%2C480&ssl=1
CATEGORIES:Natur + Erlebnis
END:VEVENT
BEGIN:VTIMEZONE
TZID:Europe/Vienna
X-LIC-LOCATION:Europe/Vienna
BEGIN:DAYLIGHT
DTSTART:20140330T030000
TZOFFSETFROM:+0100
TZOFFSETTO:+0200
TZNAME:CEST
END:DAYLIGHT
END:VTIMEZONE
END:VCALENDAR