BEGIN:VCALENDAR
VERSION:2.0
PRODID:-//wp-events-plugin.com//7.2.3.1//EN
TZID:Europe/Vienna
X-WR-TIMEZONE:Europe/Vienna
BEGIN:VEVENT
UID:400@magixx.at
DTSTART;TZID=Europe/Vienna:20140815T091500
DTEND;TZID=Europe/Vienna:20140815T190000
DTSTAMP:20140630T104241Z
URL:https://www.magixx.at/events/blaue-wanderung-spezial-freitag-15-8-2014
 /
SUMMARY:Blaue Wanderung Spezial am Freitag 15.8.2014
DESCRIPTION:Die nächste BLAUE WANDERUNG verspricht wieder überraschende 
 Eindrücke\, Genuss\, Ausblicke und Erlebnisse. Wir fahren gemeinsam auf'
 s Blaue ins Blaue. Diesmal wird es zünftig ...\nLust auf Spontanität\, E
 rholung\, Aktivität\, Natur\, Energie\, Entspannung\, Luft und Lust am Le
 ben?\nDiese Tage dienen genau diesem Zweck. Wir treffen uns wieder bei de
 r U6 Station Siebenhirten und dann geht es los. Das Ziel ist bis zum Treff
 en unbekannt. Ich wähle interessante Ziele im Umkreis von max. etwa 1\,5 
 Stunden aus. Oft ist Wasser\, ein Fluss oder ein See dabei. Die Wanderunge
 n sind nicht schwierig und für Jedermann und Frau zu schaffen. Gehzeiten 
 sind immer etwa 2 x 2 Stunden – mal ein bisschen mehr oder weniger.\n\nW
 anderausrüstung inklusive Regenschutz und Getränke sind bitte mitzunehme
 n. Diesmal ist keine Jause inkludiert!!! Es wird ausreichend zu Essen und 
 Trinken geben...\n\nWer eine Mitfahrgelegenheit braucht bitte rechtzeitig 
 (an-)melden.\nTermin und Treffpunkt\nFreitag\, 15. Juli 2014\, 9:15 (Feier
 tag)\nU6 Siebenhirten\, Abfahrt pünktlich 9:30\nRückkehr ca. 19:00\n\nBi
 s zu max. 4 Personen kann ich gegen eine kleine Kostenbeteiligung mitnehme
 n.\n\nLeistungen\ngeführte Ein-Tages Freizeittour\, für alle geeignet\, 
 normale Gesundheit und körperliche Fitness ausreichend\n\nUnkostenbeitrag
 \nPreis 8\,- plus Getränke\, Essen usw.\n\nAnmeldung\nhier unterhalb\, b
 itte bis mindestens einen Tag vor der Veranstaltung\noder per Mail (event@
 magixx.at)\n\n&nbsp\;
ATTACH;FMTTYPE=image/jpeg:https://i0.wp.com/www.magixx.at/wp-content/uploa
 ds/2013/08/MA283324-web.jpg?fit=640%2C480&ssl=1
CATEGORIES:Natur + Erlebnis
END:VEVENT
BEGIN:VTIMEZONE
TZID:Europe/Vienna
X-LIC-LOCATION:Europe/Vienna
BEGIN:DAYLIGHT
DTSTART:20140330T030000
TZOFFSETFROM:+0100
TZOFFSETTO:+0200
TZNAME:CEST
END:DAYLIGHT
END:VTIMEZONE
END:VCALENDAR