BEGIN:VCALENDAR
VERSION:2.0
PRODID:-//wp-events-plugin.com//7.2.3.1//EN
TZID:Europe/Vienna
X-WR-TIMEZONE:Europe/Vienna
BEGIN:VEVENT
UID:714@magixx.at
DTSTART;TZID=Europe/Vienna:20231006T180000
DTEND;TZID=Europe/Vienna:20231007T010000
DTSTAMP:20230925T071809Z
URL:https://www.magixx.at/events/danceroom-salsa-bachata-90ies-dance-party
 -lillis-ballroom-vienna-fiesta-latina-2023-10/
SUMMARY:DanceRoom | Salsa\, Bachata & 90's Party Vienna | Fiesta Latina mee
 ts 90ies | Party on 2 Floors
DESCRIPTION:DanceRoom - die neue Salsa\, Bachata &amp\; 90's Party\n3 Dates
 : Friday 6.10.\, Saturday 4.11. &amp\; 9.12.2023\n\nLatin Floor: Salsa\, B
 achata\, Chacha...\nDisco Floor: 90's Hits\nDie Fiesta Latina geht weiter 
 - wieder direkt am Wasser\, aber mit einem neuen Kombi Konzept.\nFür alle
  Tänzerinnen und Tänzer\, die gerne Salsa und Bachata tanzen und gerne 9
 0er hören\, gibt es bei dem neuen DanceRoom einen Latin Floor UND einen 9
 0's Floor.\nSicher die geilste Tanz Party Wiens!\n18:00 Workshops\nab 20:0
 0 2 DJs Floor 1: Salsa &amp\; Bachata\, Floor 2: 90ies Party\nFreitag 6.10
 .2023\nSalsa Floor: DJ Pancho\n90ies Flor: tba\nFacebook: https://fb.me/e/
 3aON7fv0p\n&nbsp\;\nSamstag 4.11.2023\nSalsa Floor: DJ Lorenzo\n90ies Flor
 : tba\nFacebook:\n&nbsp\;\nSamstag 9.12.2023\nSalsa Floor: DJ Jorge\n90ies
  Flor: tba\nFacebook:\n&nbsp\;\n Workshops\n&nbsp\;different DJs\n&nbsp\;R
 uedas\n&nbsp\;Cocktails &amp\; Fancy Drinks\n&nbsp\;Animation\n&nbsp\;\nGe
 nieße köstliche - von unserer freundlichen Crew zubereitete - Cocktails 
 und andere Drinks.\nSo klingt deine Woche relaxt und tanzend mit guter Lau
 ne bei uns aus.\n&nbsp\;\nDieser Event kann natürlich auch ohne Partnerin
  oder Partner besucht werden.\n&nbsp\;\nOrt:\nLillis Ballroom\nSpittelauer
  Lände 12\, Stadtbahnbögen 326/329\nGut erreichbar mit U4\, U6 Spittelau
 \nausreichend Parkplätze Park &amp\; Ride Spittelau\n&nbsp\;\n8 Euro (Mie
 te\, Organisationsbeitrag\, DJ...)\n\n\nDas gesamte DanceRoom Team Peter\,
  Celine\, Ines &amp\; Leo freut sich auf dein Kommen\n\n\n\n
ATTACH;FMTTYPE=image/jpeg:https://i0.wp.com/www.magixx.at/wp-content/uploa
 ds/2023/09/DanceRoom-2023-scaled.jpg?fit=2560%2C1817&ssl=1
CATEGORIES:Party + Tanz
LOCATION:Lillis Ballroom Wien\, Spittelauer Lände 12\, Stadtbahnbögen 326
 /329\, Wien\, 1090\, Österreich
GEO:48.234979;16.360863
X-APPLE-STRUCTURED-LOCATION;VALUE=URI;X-ADDRESS=Spittelauer Lände 12\, Sta
 dtbahnbögen 326/329\, Wien\, 1090\, Österreich;X-APPLE-RADIUS=100;X-TITL
 E=Lillis Ballroom Wien:geo:48.234979,16.360863
END:VEVENT
BEGIN:VTIMEZONE
TZID:Europe/Vienna
X-LIC-LOCATION:Europe/Vienna
BEGIN:DAYLIGHT
DTSTART:20230326T030000
TZOFFSETFROM:+0100
TZOFFSETTO:+0200
TZNAME:CEST
END:DAYLIGHT
END:VTIMEZONE
END:VCALENDAR