BEGIN:VCALENDAR
VERSION:2.0
PRODID:-//wp-events-plugin.com//7.2.3.1//EN
TZID:Europe/Vienna
X-WR-TIMEZONE:Europe/Vienna
BEGIN:VEVENT
UID:26@magixx.at
DTSTART;TZID=Europe/Vienna:20130614T080000
DTEND;TZID=Europe/Vienna:20130616T180000
DTSTAMP:20130602T145338Z
URL:https://www.magixx.at/events/das-moldau-erlebniswochenende/
SUMMARY:3 Tage auf und an der Moldau - Erlebniswochenende
DESCRIPTION:Freuen sie sich auf eine Bootsfahrt durch den wunderschönen Na
 turpark an der Moldau. Den Abend verbringen Sie entweder im TIPI mit Lager
 feuer oder in einem schönen Hotelzimmer nicht weit von dem Zeltplatz entf
 ernt.\n \nErleben Sie die Schönheit der Moldau hautnah! Die Bootsfahrt a
 uf der Moldau ist Spaß\, Erlebnis\, Natur und natürlich Genuss und Fluss
 .\n\nAusgangspunkt unserer Reise wird die Stadt Vyssi Brod unterhalb des L
 ipno Stausees sein. Am Freitag werden die Zimmer oder Zelte bezogen und we
 r noch Zeit und Lust hat kann auf eine Bootsfahrt auf den Lipno Stausee da
 bei sein.\n\nAm Samstag starten wir mit der ersten Etappe der Boots – To
 ur. Die Fahrt beginnt in Vyssi Brod und nach zirka zwei Stunden (je nach A
 nzahl der Pausen und Ruderfreude) erblicken wir die imposante Burg in Rozm
 berk\, unser erstes Ziel.\n\nWeiter geht es dann noch einmal zwei bis drei
  Stunden nach Nahorany. Dort werden die Zelte aufgeschlagen bzw. die TIPI
 ’s bezogen. Alle die in der Villa schlafen fahren von hier mit dem Bus r
 etour und kommen am nächsten Tag wieder mit dem Bus hier her.\n\nVon Naho
 rany geht es dann 23km weiter bis nach Cesky Krumlov. Die Stadt (UNSESCO W
 eltkulturerbe und köstliches Essen und Bier) muss einfach besichtigt werd
 en.\n\nNach der Besichtigung werden Sie dann abends zum Ausgangspunkt zur
 ück gebracht.\nInklusiv-Leistungen\n\n	2 Übernachtungen (entweder TIPI o
 der eigenes Zelt oder im wunderschönen Zimmer direkt an der Moldau)\n	2 T
 age Bootsfahrt inklusive Bootsmiete\n	Besichtigung der mittelalterlichen S
 tadt Krumau\n	lokale Transporte\n	2 Frühstück\n	gesamte Organisation unt
 er fachkundiger Leitung\n	ein Boots Guide für die gesamte Gruppe\n\nKoste
 n\nVariante TIPI: 80€ pro Person mit 2 Übernachtungen im Tipi bzw. Zelt
 \n\nVariante VILLA: 124€ pro Person mit 2 Übernachtungen in wunderschö
 ner Unterkunft direkt an der Moldau\n\nZusätzlich zu den Aktivitäten bie
 ten wir Optional für beide Abende jeweils ein Abendessen für insgesamt 3
 0€  an (Freitag Abend im Restaurant\, Samstag Grill am Lagerfeuer oder 
 Restaurant bei Übernachtung in der Villa). Weiters können auch Zelte aus
 geliehen werden – bitte um Mitteilung bei Reservierung.\n\nPreise für K
 inder und Jugendliche auf Anfrage\, wobei wir Kinder erst ab 8 Jahren mitn
 ehmen können.\nReservierung/Bestellung\nGerne nehmen wir Ihre Reservierun
 g per Mail an event@magixx.at unter Angabe von Namen\, Adresse\, Geburtsda
 tum entgegen. Sie erhalten dann eine Bestätigung und nach Bezahlung des g
 esamten Betrages eine weitere Bestätigung nochmals mit allen Details.\nAb
 lauf\nFreitag freie selbständige Anreise zur Moldau – Mitfahrmöglichke
 it aus Wien auf Anfrage 18:00 Treffpunkt Vyssi Brod Parkplatz\n\nSamstag 8
 :30 Frühstück 10:00 Bootseinweisung und Übernahme 10:30 Abfahrt 17:00 E
 nder der ersten Bootsetappe\, Bezug der TIPIs/Zelte aufbauen bzw. Rückfah
 rt mit Bus zum Quartier 19:00 Abendessen/Grill\, gemütlicher Abend beim L
 agerfeuer\n\nSonntag Fortsetzung der Reise bis Krumau Nachmittag Besichtig
 ung der Stadt Krumau zirka 17:00 Rückreise zum Ausgangsort nach Vyssi Bro
 d\n\nHier noch vorab ein paar visuelle Eindrücke:\n\n\n         
CATEGORIES:Natur + Erlebnis
LOCATION:Moldau\, Krumau\, Krumau\, Tschechische Republik
GEO:48.81202880000001;14.316137300000036
X-APPLE-STRUCTURED-LOCATION;VALUE=URI;X-ADDRESS=Krumau\, Krumau\, Tschechis
 che Republik;X-APPLE-RADIUS=100;X-TITLE=Moldau:geo:48.81202880000001,14.31
 6137300000036
END:VEVENT
BEGIN:VTIMEZONE
TZID:Europe/Vienna
X-LIC-LOCATION:Europe/Vienna
BEGIN:DAYLIGHT
DTSTART:20130331T030000
TZOFFSETFROM:+0100
TZOFFSETTO:+0200
TZNAME:CEST
END:DAYLIGHT
END:VTIMEZONE
END:VCALENDAR