BEGIN:VCALENDAR
VERSION:2.0
PRODID:-//wp-events-plugin.com//7.2.3.1//EN
TZID:Europe/Vienna
X-WR-TIMEZONE:Europe/Vienna
BEGIN:VEVENT
UID:711@magixx.at
DTSTART;TZID=Europe/Vienna:20230913T160000
DTEND;TZID=Europe/Vienna:20230913T234500
DTSTAMP:20230514T064253Z
URL:https://www.magixx.at/events/fiesta-latina-en-la-playa-2023-salsaparty
 -und-bachata-after-work-beach-party-2023-09-13/
SUMMARY:Fiesta Latina en la Playa 2023 - Salsaparty und Bachata After Work 
 Beach Party
DESCRIPTION:FIESTA LATINA en la Playa - jeden Mittwoch\nSalsa\, Bachata Aft
 er Work Beach Club&nbsp\;\n\nBei Badewetter ab 16:00 Bad für euch geöffn
 et\nSonst ab 18:00 geöffnet\n\n\nDie beste und gemütlichste Outdoor Sals
 a &amp\; Bachata Beach Party Wiens an der Alten Donau! Lass den Arbeitstag
  relaxt und tanzend bei uns ausklingen…\n\nÜberdacht! Bei (fast) jedem 
 Wetter!\n\n&#x1f4af\; 18:30 Workshops\n&#x1f3a7\; ab 19:30 DJ mit viel Sal
 sa &amp\; Bachata\n\n&#x1f57a\;&#x1f3fe\; Animation / Suelta\n&#x1f506\; R
 ueda\n&#x1f60b\; BBQ\n&#x1f379\; Cocktailbar mit Yuri (Cuba)\n&#x1f973\; H
 APPY HOUR 17(18) - 19 Uhr (alle Cocktails 7 Euro)\n\n&#x2705\; Best of Sal
 sa &amp\; Bachata ab 19:30\n&#x2747\;&#xfe0f\; Köstliches vom Holzkohleng
 rill 18:30-21:00\n\nHeuer erstmals mit eigener Cocktailbar und Saisonkarte
  um nur 96 Euro!\n\n\n\nNEU Salsa Challenge\n\n\nmach mit bei der Fiesta L
 atina en la Playa Salsa Dance Challenge\nEinmal pro Monat machen wir einen
  kleinen Salsa Wettbewerb. Zu gewinnen gibt es:\n\n&#x2705\;&nbsp\;Gratis 
 Fiesta Latina Eintritte\n&#x2705\;&nbsp\;Cocktail Gutscheine\n&#x2705\;&nb
 sp\;Getränke Gutscheine\n&#x2705\;&nbsp\;Parfum Party Gutschein/Ticket\n&
 #x2705\;&nbsp\;Ticket für Salsa Boot Moldau 2023\n\nKeine Anmeldung nöti
 g. Einfach mitmachen! Das Publikum entscheidet mit dem Applaus&nbsp\;&#x1f
 44f\;\nWir freuen uns auf eure Teilnahme.\n\nLeider dürfen Tanzlehrer und
  professionelle Tänzer nicht teilnehmen.\n\n\n\nDas gesamte Fiesta Latina
  Team 2023 freut sich auf dein Kommen &#x1f973\;&#x1f917\;&#x1f60d\;\n\n\n
 Wiese liegen Seele baumeln\, schwimmen\, an der Bar etwas Gutes trinken od
 er Salsa tanzen - was auch immer Dein Herz begehrt ...\n&nbsp\;\nWo?\nALTE
  DONAU\nArbeiterstrandbadstraße 87\n&nbsp\;\nDer Salsa\, Bachata &amp\; L
 atin Beach Club\n"Best of Salsa in Vienna"\n!better together!\n&nbsp\;\n&n
 bsp\;Rueda\n&nbsp\;wechselnde DJs\n&nbsp\;Animation\n&nbsp\;\n6 Euro (Bad 
 &amp\; Party Organisationsbeitrag)\n&nbsp\;\nWir bitten um Verständnis\, 
 dass unsere geliebten Vierbeiner (Hunde :-)) keinen Zutritt haben.\n&nbsp\
 ;\n
ATTACH;FMTTYPE=image/jpeg:https://i0.wp.com/www.magixx.at/wp-content/uploa
 ds/2023/05/Fiesta-Latina-a-la-Playa-2023-scaled.jpg?fit=2560%2C1633&ssl=1
CATEGORIES:Party + Tanz
LOCATION:ASV Sportbad Alte Donau\, Arbeiterstrandbadstraße 87\, Wien\, 121
 0\, Österreich
GEO:48.245091;16.411924
X-APPLE-STRUCTURED-LOCATION;VALUE=URI;X-ADDRESS=Arbeiterstrandbadstraße 87
 \, Wien\, 1210\, Österreich;X-APPLE-RADIUS=100;X-TITLE=ASV Sportbad Alte 
 Donau:geo:48.245091,16.411924
END:VEVENT
BEGIN:VTIMEZONE
TZID:Europe/Vienna
X-LIC-LOCATION:Europe/Vienna
BEGIN:DAYLIGHT
DTSTART:20230326T030000
TZOFFSETFROM:+0100
TZOFFSETTO:+0200
TZNAME:CEST
END:DAYLIGHT
END:VTIMEZONE
END:VCALENDAR