BEGIN:VCALENDAR
VERSION:2.0
PRODID:-//wp-events-plugin.com//7.2.3.1//EN
TZID:Europe/Vienna
X-WR-TIMEZONE:Europe/Vienna
BEGIN:VEVENT
UID:684@magixx.at
DTSTART;TZID=Europe/Vienna:20220907T170000
DTEND;TZID=Europe/Vienna:20220907T235500
DTSTAMP:20220829T121552Z
URL:https://www.magixx.at/events/fiesta-latina-en-la-playa-all-stars-somme
 rfest-7-september-2022/
SUMMARY:Fiesta Latina en la Playa - All Stars Sommerfest 7. September 2022
DESCRIPTION:
CATEGORIES:Party + Tanz
END:VEVENT
BEGIN:VTIMEZONE
TZID:Europe/Vienna
X-LIC-LOCATION:Europe/Vienna
BEGIN:DAYLIGHT
DTSTART:20220327T030000
TZOFFSETFROM:+0100
TZOFFSETTO:+0200
TZNAME:CEST
END:DAYLIGHT
END:VTIMEZONE
END:VCALENDAR