BEGIN:VCALENDAR
VERSION:2.0
PRODID:-//wp-events-plugin.com//7.2.3.1//EN
TZID:Europe/Vienna
X-WR-TIMEZONE:Europe/Vienna
BEGIN:VEVENT
UID:690@magixx.at
DTSTART;TZID=Europe/Vienna:20230510T170000
DTEND;TZID=Europe/Vienna:20230510T230000
DTSTAMP:20230429T122853Z
URL:https://www.magixx.at/events/fiesta-latina-en-la-playa-opening-2023/
SUMMARY:Fiesta Latina en la Playa OPENING 2023 - Salsa\, Bachata After Work
  Beach Party
DESCRIPTION:&nbsp\;\n\n\nFIESTA LATINA en la Playa\nSalsa\, Bachata After W
 ork Beach Club Opening\n\nMittwoch 10.5.2023 \, 18 - 23 Uhr\n\n\nDie beste
  und gemütlichste Outdoor Salsa &amp\; Bachata Beach Party Wiens an der A
 lten Donau! Lass den Arbeitstag relaxt und tanzend bei uns ausklingen…\n
 \nÜberdacht! Bei jedem Wetter!\n\n&#x1f4af\; 18:30 Rueda Workshop mit Yun
 el\n&#x1f3a7\; ab 19:30 DJ Pancho mit viel Salsa &amp\; Bachata\n\n&#x1f57
 a\;&#x1f3fe\; Animation / Suelta\n&#x1f506\; Rueda\n&#x1f60b\; BBQ\n&#x1f3
 79\; Cocktailbar mit Yuri (Cuba)\n&#x1f973\; HAPPY HOUR 17-19 Uhr\n\n&#x27
 05\; Best of Salsa &amp\; Bachata ab 19:30\n&#x2747\;&#xfe0f\; Köstliches
  vom Holzkohlengrill 18:30-21:00\n\nHeuer erstmals mit eigener Cocktailbar
  und Saisonkarte um nur 96 Euro!\n\nDas gesamte Fiesta Latina Team 2023 fr
 eut sich auf dein Kommen &#x1f973\;&#x1f917\;&#x1f60d\;\n\n\nWiese liegen 
 Seele baumeln\, schwimmen\, an der Bar etwas Gutes trinken oder Salsa tanz
 en - was auch immer Dein Herz begehrt ...\n&nbsp\;\nALTE DONAU\nArbeiterst
 randbadstraße 87\n&nbsp\;\nDer Salsa\, Bachata &amp\; Latin Beach Club\n"
 Best of Salsa in Vienna"\n!better together!\n&nbsp\;\n&nbsp\;Rueda\n&nbsp\
 ;wechselnde DJs\n&nbsp\;Animation\n&nbsp\;\n6 Euro (Bad &amp\; Party Organ
 isationsbeitrag)\n&nbsp\;\nWir bitten um Verständnis\, dass unsere gelieb
 ten Vierbeiner (Hunde :-)) keinen Zutritt haben.
ATTACH;FMTTYPE=image/jpeg:https://i0.wp.com/www.magixx.at/wp-content/uploa
 ds/2023/03/Fiesta-Latina-a-la-Playa-2023-Opening-scaled.jpg?fit=2560%2C155
 8&ssl=1
CATEGORIES:Party + Tanz
LOCATION:ASV Sportbad Alte Donau\, Arbeiterstrandbadstraße 87\, Wien\, 121
 0\, Österreich
GEO:48.245091;16.411924
X-APPLE-STRUCTURED-LOCATION;VALUE=URI;X-ADDRESS=Arbeiterstrandbadstraße 87
 \, Wien\, 1210\, Österreich;X-APPLE-RADIUS=100;X-TITLE=ASV Sportbad Alte 
 Donau:geo:48.245091,16.411924
END:VEVENT
BEGIN:VTIMEZONE
TZID:Europe/Vienna
X-LIC-LOCATION:Europe/Vienna
BEGIN:DAYLIGHT
DTSTART:20230326T030000
TZOFFSETFROM:+0100
TZOFFSETTO:+0200
TZNAME:CEST
END:DAYLIGHT
END:VTIMEZONE
END:VCALENDAR