BEGIN:VCALENDAR
VERSION:2.0
PRODID:-//wp-events-plugin.com//7.2.3.1//EN
TZID:Europe/Vienna
X-WR-TIMEZONE:Europe/Vienna
BEGIN:VEVENT
UID:22@magixx.at
DTSTART;TZID=Europe/Vienna:20130324T080000
DTEND;TZID=Europe/Vienna:20130324T180000
DTSTAMP:20130227T145544Z
URL:https://www.magixx.at/events/fruhlingserwachen-genuss-und-fluss-erlebn
 iswanderung/
SUMMARY:Frühlingserwachen - Erlebniswanderung Donauauen
DESCRIPTION:Die ersten warmen Sonnenstrahlen kommen heraus und das wollen w
 ir auf keinen Fall verpassen! Deswegen nützen wir die Gelegenheit und mac
 hen uns auf den Weg in den Frühling.\n\nFür alle Menschen die gerne Zeit
  im Freien verbringen\, gerne Neues entdecken\, Energie tanken und Sinne w
 ecken und neue Leute kennen lernen wollen.\n\n&nbsp\;\n\nDie Donauauen ge
 lten mit einer derzeitigen Gesamtfläche mehr als 9.300 Hektar als "grün
 es Band" zwischen den Ballungsräumen Wien und Bratislava\, zudem sind di
 e Donauauen die größten zusammenhängenden\, ökologisch weitgehend inta
 kten und naturnahen Aulandschaften dieser Art in Mitteleuropa.\nDie hier n
 och frei fließende Donau ist auf ca. 36 km Fließstrecke die Lebensader d
 es Nationalparks. Ihr dynamisches Wechselspiel mit Pegelschwankungen von b
 is zu 7 Metern gestaltet die Flussauen-Landschaft immer wieder neu. Die D
 onauauen sind zusammen ein Komplex von Ökosystemen\,  mit einer gewalt
 igen Vielfalt an Lebensräumen\, Pflanzen- und Tierarten und natürlich z
 ählt sie zu einem der Erholungsräume für Menschen.\n\n&nbsp\;\n\n&nbsp\
 ;\n\nUnkostenbeitrag: 6€\nKinder und Jugendliche bis 14 Jahre gratis
ATTACH;FMTTYPE=image/jpeg:https://i0.wp.com/www.magixx.at/wp-content/uploa
 ds/2013/02/fr%C3%BChlingserwachen.jpg?fit=560%2C420&ssl=1
CATEGORIES:Natur + Erlebnis
END:VEVENT
BEGIN:VTIMEZONE
TZID:Europe/Vienna
X-LIC-LOCATION:Europe/Vienna
BEGIN:STANDARD
DTSTART:20121028T020000
TZOFFSETFROM:+0200
TZOFFSETTO:+0100
TZNAME:CET
END:STANDARD
END:VTIMEZONE
END:VCALENDAR