BEGIN:VCALENDAR
VERSION:2.0
PRODID:-//wp-events-plugin.com//7.2.3.1//EN
TZID:Europe/Vienna
X-WR-TIMEZONE:Europe/Vienna
BEGIN:VEVENT
UID:24@magixx.at
DTSTART;TZID=Europe/Vienna:20130505T080000
DTEND;TZID=Europe/Vienna:20130505T180000
DTSTAMP:20130417T082550Z
URL:https://www.magixx.at/events/genuss-und-fluss-erlebniswelt-mendlingtal
 /
SUMMARY:Genuss und Fluss - Erlebniswelt Mendlingtal
DESCRIPTION:Der Fluss und die Entdeckung der Natur in der Umgebung steht be
 i den Veranstaltungen „Genuss und Fluss“ im Mittelpunkt. Bei dieser W
 anderung geht es durch das wunderschöne Mendlingtal. Das Tal ist eines de
 r wenigen in denen noch Holztriftanlagen bestehen.  Lauschen Sie dem Plä
 tschern des Flusses\, der entlang des Weges vorbeirauscht und genießen si
 e die Atmosphäre\, die das Mendlingtal seinen Besuchern bietet.\n\nWeiter
 e Detailinfos im Artikel -&gt\; gehe zum Artikel\n\n&nbsp\;
ATTACH;FMTTYPE=image/jpeg:https://i0.wp.com/www.magixx.at/wp-content/uploa
 ds/2013/02/mendlingtal1_640x480.jpg?fit=640%2C480&ssl=1
CATEGORIES:Natur + Erlebnis
LOCATION:Lassing\, Lassing 19\, Göstling an der Ybbs\, Österreich
GEO:47.74324;14.89214000000004
X-APPLE-STRUCTURED-LOCATION;VALUE=URI;X-ADDRESS=Lassing 19\, Göstling an d
 er Ybbs\, Österreich;X-APPLE-RADIUS=100;X-TITLE=Lassing:geo:47.74324,14.8
 9214000000004
END:VEVENT
BEGIN:VTIMEZONE
TZID:Europe/Vienna
X-LIC-LOCATION:Europe/Vienna
BEGIN:DAYLIGHT
DTSTART:20130331T030000
TZOFFSETFROM:+0100
TZOFFSETTO:+0200
TZNAME:CEST
END:DAYLIGHT
END:VTIMEZONE
END:VCALENDAR