BEGIN:VCALENDAR
VERSION:2.0
PRODID:-//wp-events-plugin.com//7.2.3.1//EN
TZID:Europe/Vienna
X-WR-TIMEZONE:Europe/Vienna
BEGIN:VEVENT
UID:12@magixx.at
DTSTART;TZID=Europe/Vienna:20121007T084500
DTEND;TZID=Europe/Vienna:20121007T180000
DTSTAMP:20120926T060240Z
URL:https://www.magixx.at/events/genuss-und-fluss-herbsttour/
SUMMARY:Genuss und Fluss - Weinherbst in der Wachau
DESCRIPTION:Die Genuss und Fluss Herbsttour führt uns in die herbstliche W
 achau auf den Welterbesteig. Was dabei natürlich nicht fehlen darf ist ei
 ne entsprechende Einkehr mit Wein und ordentlicher Jause. \n\nDas ist echt
 er Genuss am Fluss!\nTreffpunkt 1\n8:45 U6 Siebenhirten\nTreffpunkt 2\nin 
 der Wachau\, genuer Punkt wird noch bekannt gegeben\nKosten-Beitrag\n15\,
 - inklusive Weinprobe und Jause\nAnmeldung erforderlich - damit genug zu E
 ssen und Trinken da ist :-)\n\n&nbsp\;
CATEGORIES:Natur + Erlebnis
END:VEVENT
BEGIN:VTIMEZONE
TZID:Europe/Vienna
X-LIC-LOCATION:Europe/Vienna
BEGIN:DAYLIGHT
DTSTART:20120325T030000
TZOFFSETFROM:+0100
TZOFFSETTO:+0200
TZNAME:CEST
END:DAYLIGHT
END:VTIMEZONE
END:VCALENDAR