BEGIN:VCALENDAR
VERSION:2.0
PRODID:-//wp-events-plugin.com//7.2.3.1//EN
TZID:Europe/Vienna
X-WR-TIMEZONE:Europe/Vienna
BEGIN:VEVENT
UID:401@magixx.at
DTSTART;TZID=Europe/Vienna:20140914T083000
DTEND;TZID=Europe/Vienna:20140914T200000
DTSTAMP:20140821T092826Z
URL:https://www.magixx.at/events/genuss-und-fluss-kamptal-entdecke-das-erl
 ebnis-2/
SUMMARY:Genuss und Fluss - Kamptal\, Entdecke das Erlebnis
DESCRIPTION:Fluss-Wanderung - Fluss-Querung - lokale Spezialitäten - viel 
 Natur\n                      ... das ist das Genuss 
 und Fluss Erlebnis\nDie Kommentare vom letzten Mal: "einfach toll"\, "Ein 
 echtes Erlebnis"\, "Ich dachte nicht dass das geht - und mir auch sooo gef
 ällt"\n\nWas gibt es schöneres als mit netten Menschen an einem netten O
 rt eine nette Umgebung zu genießen? Die einfache aber doch spannende Wand
 erung führt uns sowohl DURCH zwei Flüsse als auch entlang der Flüsse. W
 underschöne Rastplätze laden zum Verweilen und zum Genießen der Jause e
 in. Ein Erlebnis für alle Sinne!\n\n Bitte alte Turnschuhe oder feste S
 andalen die Nass werden dürfen mitnehmen. Ein kleiner Rucksack kann auch 
 nicht schaden. Auf Wunsch können Neoprensocken ausgeliehen werden\, über
  die dann im Fluss die Schuhe angezogen werden (bitte bei Anmeldung dazu s
 chreiben).\nTeilnahmegebühr\nEUR 22\,- inkl. Jausen und Getränke\, Kinde
 r und Jugendliche bis 14 Jahren zahlen die Hälfte\n\nAnmeldungen und Frag
 en hier online oder per Mail an event@magixx.at\nAnmeldeschluss Freitag\,
  22. August 2014!\nZeiten\n8:30 Abfahrt Wien (Mitfahrmöglichkeit auf Anfr
 age)\n10:30 Start Zwettl\nca. 17:00 Rückkehr Zwettl
ATTACH;FMTTYPE=image/jpeg:https://i0.wp.com/www.magixx.at/wp-content/uploa
 ds/2012/03/Kamptal-22.jpg?fit=1280%2C960&ssl=1
CATEGORIES:Natur + Erlebnis
LOCATION:Kamptal\, Zwettl\, Zwettl\, Österreich
GEO:48.6052153;15.167151900000021
X-APPLE-STRUCTURED-LOCATION;VALUE=URI;X-ADDRESS=Zwettl\, Zwettl\, Österrei
 ch;X-APPLE-RADIUS=100;X-TITLE=Kamptal:geo:48.6052153,15.167151900000021
END:VEVENT
BEGIN:VTIMEZONE
TZID:Europe/Vienna
X-LIC-LOCATION:Europe/Vienna
BEGIN:DAYLIGHT
DTSTART:20140330T030000
TZOFFSETFROM:+0100
TZOFFSETTO:+0200
TZNAME:CEST
END:DAYLIGHT
END:VTIMEZONE
END:VCALENDAR