BEGIN:VCALENDAR
VERSION:2.0
PRODID:-//wp-events-plugin.com//7.2.3.1//EN
TZID:Europe/Vienna
X-WR-TIMEZONE:Europe/Vienna
BEGIN:VEVENT
UID:23@magixx.at
DTSTART;TZID=Europe/Vienna:20130421T083000
DTEND;TZID=Europe/Vienna:20130421T160000
DTSTAMP:20130410T081539Z
URL:https://www.magixx.at/events/genuss-und-fluss-kamptal-entdecke-das-erl
 ebnis/
SUMMARY:Genuss und Fluss - Kamptal\, Entdecke das Erlebnis
DESCRIPTION:Was gibt es schöneres als mit netten Menschen an einem netten 
 Ort eine nette Umgebung zu genießen?\n\nDie einfache aber doch spannende 
 Wanderung führt uns sowohl DURCH zwei Flüsse als auch entlang der Flüss
 e. Wunderschöne Rastplätze laden zum Verweilen und zum Genießen der Jau
 se ein. Ein Erlebnis für alle Sinne!\n\nBitte alte Turnschuhe oder feste 
 Sandalen die Nass werden dürfen mitnehmen. Ein kleiner Rucksack kann auch
  nicht schaden. Auf Wunsch können Neoprensocken ausgeliehen werden\, übe
 r die dann im Fluss die Schuhe angezogen werden (bitte bei Anmeldung dazu 
 schreiben).\n\nTeilnahmegebühr für ganzen Tag EUR 20\,- inkl. Jausen und
  Getränke\, Kinder und Jugendliche bis 14 Jahren zahlen die Hälfte.\n\nA
 nmeldungen und Fragen hier online oder per Mail an event@magixx.at\n\nAnm
 eldeschluss Freitag\, 19. April 2013!\n\nZeiten:\n8:30 Abfahrt Wien (Mitfa
 hrmöglichkeit auf Anfrage)\n10:30 Start Zwettl\nca. 16:00 Rückkehr Zwett
 l
ATTACH;FMTTYPE=image/jpeg:https://i0.wp.com/www.magixx.at/wp-content/uploa
 ds/2012/03/Kamptal-22.jpg?fit=1280%2C960&ssl=1
CATEGORIES:Natur + Erlebnis
LOCATION:Kamptal\, Zwettl\, Zwettl\, Österreich
GEO:48.6052153;15.167151900000021
X-APPLE-STRUCTURED-LOCATION;VALUE=URI;X-ADDRESS=Zwettl\, Zwettl\, Österrei
 ch;X-APPLE-RADIUS=100;X-TITLE=Kamptal:geo:48.6052153,15.167151900000021
END:VEVENT
BEGIN:VTIMEZONE
TZID:Europe/Vienna
X-LIC-LOCATION:Europe/Vienna
BEGIN:DAYLIGHT
DTSTART:20130331T030000
TZOFFSETFROM:+0100
TZOFFSETTO:+0200
TZNAME:CEST
END:DAYLIGHT
END:VTIMEZONE
END:VCALENDAR