BEGIN:VCALENDAR
VERSION:2.0
PRODID:-//wp-events-plugin.com//7.2.3.1//EN
TZID:Europe/Vienna
X-WR-TIMEZONE:Europe/Vienna
BEGIN:VEVENT
UID:10@magixx.at
DTSTART;TZID=Europe/Vienna:20120915T093000
DTEND;TZID=Europe/Vienna:20120915T173000
DTSTAMP:20120911T050736Z
URL:https://www.magixx.at/events/genuss-und-fluss-klammerlebnis/
SUMMARY:Genuss und Fluss - Klammerlebnis Steinwandklamm
DESCRIPTION:Wenn ich an eine Klamm in Niederösterreich denke\, so fällt m
 ir immer wieder die Steinwandklamm ein.\n\nDie Wanderwelt Steinwandklamm a
 uf 549 m Seehöhe\, ist eine der schönsten\, wildesten und interessantest
 en Karstklammen in Niederösterreich. In einer tiefen Schlucht wanderst Du
  auf gepflegten Brücken und Stiegen über tosende Wasserfälle des Klammb
 aches\, sofern Du in einer Zeit kommst\, in der die Steinwandklamm Wasser 
 führt. Das ist im Frühjahr nach der Schneeschmelze und im Sommer nach er
 giebigen Regenfällen.\n\nDie gesamte Gehzeit wird etwa 4 Stunden betragen
 .\n\nIch freue mich auf Deine Teilnahme.\nKosten\n6\,- Euro Kostenbeitrag 
 pro Person inkl. Eintrittsgebühr / Kinder bis 14 Jahren frei\nfür Natur
 genusse ist gesorgt \;-)\, aber für kulinarische Genüsse muss diesmal wi
 eder jeder selbst sorgen\nAber ein paar leckere kleine Genüsse werden auc
 h diesmals für euch dabei sein \;-)\nTreffpunkt\nTreffpunkt 1:\n9:30 Abfa
 hrt U6 Siebenhirten Busumkehrplatz\, derzeit noch 3 Mitfahrmöglichkeiten\
 n\nTreffpunkt 2:\n10:30 Jausenstation Reischer\, Furth an der Triesting\nA
 nmeldung\nAnmeldung hier unterhalb Online oder per Mail an event@magixx.at
 \n\nFreue mich auf eure Begleitung.
ATTACH;FMTTYPE=image/jpeg:https://i0.wp.com/www.magixx.at/wp-content/uploa
 ds/2012/08/steinwandklamm.jpg?fit=590%2C332&ssl=1
CATEGORIES:Natur + Erlebnis
LOCATION:Steinwandklamm\, Steinwandklamm\, Muggendorf\, Niederösterreich\,
  Österreich
GEO:47.91666670000001;15.933333299999958
X-APPLE-STRUCTURED-LOCATION;VALUE=URI;X-ADDRESS=Steinwandklamm\, Muggendorf
 \, Niederösterreich\, Österreich;X-APPLE-RADIUS=100;X-TITLE=Steinwandkla
 mm:geo:47.91666670000001,15.933333299999958
END:VEVENT
BEGIN:VTIMEZONE
TZID:Europe/Vienna
X-LIC-LOCATION:Europe/Vienna
BEGIN:DAYLIGHT
DTSTART:20120325T030000
TZOFFSETFROM:+0100
TZOFFSETTO:+0200
TZNAME:CEST
END:DAYLIGHT
END:VTIMEZONE
END:VCALENDAR