BEGIN:VCALENDAR
VERSION:2.0
PRODID:-//wp-events-plugin.com//7.2.3.1//EN
TZID:Europe/Vienna
X-WR-TIMEZONE:Europe/Vienna
BEGIN:VEVENT
UID:17@magixx.at
DTSTART;TZID=Europe/Vienna:20121113T183000
DTEND;TZID=Europe/Vienna:20121113T213000
DTSTAMP:20121101T160823Z
URL:https://www.magixx.at/events/lachen-fur-einen-guten-zweck/
SUMMARY:Lachen für einen guten Zweck
DESCRIPTION:Charity Event für nepalesische Kinder\nComedy Show mit Niko Fo
 rmanek\, Michael Schuller und Bernhard Lentsch\nDienstag\, 13. November 20
 12 – 18:30\nim Schmähstadl Comedy Club\n\nDurch Ihre Teilnahme ermögli
 chen Sie nepalesischen Kindern eine Schulbildung.\n\nWeitere Infos hier im
  Folder\n\nMagiXx unterstützt diese Veranstaltung mit z.B. genau dieser
  Werbung und ein paar Tombola-Preisen.\nWir freuen uns auf Ihre Teilnahme
  und Mithilfe.\n\nVorverkauf 14\,- Euro\nAbendkassa 19\,- Euro\nfreie Sitz
 platzwahl\n\nTickets bei:\nAlpenverein Sektion Austria\, Rotenturmstraße 
 14\, 1010 Wien\nAlpenverein Sektion Edelweiss\, Walfischgasse 12\, 1010 Wi
 en\nFreytag &amp\; Berndt\, Kohlmarkt 9\, 1010 Wien\nYak &amp\; Yeti\, Hof
 mühlgasse 21\, 1060 Wien
CATEGORIES:Natur + Erlebnis,Party + Tanz,Spezial
LOCATION:Schmähstadl Comedy Club\, Hamburgerstraße 14\, Wien\, 1050\, Ös
 terreich
GEO:48.1957049;16.356045999999992
X-APPLE-STRUCTURED-LOCATION;VALUE=URI;X-ADDRESS=Hamburgerstraße 14\, Wien\
 , 1050\, Österreich;X-APPLE-RADIUS=100;X-TITLE=Schmähstadl Comedy Club:g
 eo:48.1957049,16.356045999999992
END:VEVENT
BEGIN:VTIMEZONE
TZID:Europe/Vienna
X-LIC-LOCATION:Europe/Vienna
BEGIN:STANDARD
DTSTART:20121028T020000
TZOFFSETFROM:+0200
TZOFFSETTO:+0100
TZNAME:CET
END:STANDARD
END:VTIMEZONE
END:VCALENDAR