BEGIN:VCALENDAR
VERSION:2.0
PRODID:-//wp-events-plugin.com//7.2.3.1//EN
TZID:Europe/Vienna
X-WR-TIMEZONE:Europe/Vienna
BEGIN:VEVENT
UID:15@magixx.at
DTSTART;TZID=Europe/Vienna:20120908T140000
DTEND;TZID=Europe/Vienna:20120909T200000
DTSTAMP:20120905T150903Z
URL:https://www.magixx.at/events/magixx-beim-europafest-auf-der-donauprome
 nade/
SUMMARY:MagiXx beim Europafest auf der Donaupromenade
DESCRIPTION:Wir freuen uns heuer das erste Mal auf der Wiener Donaupromen
 ade mit Spiel\, Spaß und Genuss das MagiXx Programm präsentieren zu d
 ürfen. Die Gewinne sind ein Erlebnis: Rafting\, Tubing\, Moldau Ausflüge
  uvm. - man braucht blos 2 Sechser zu würfeln...\n\nDas Europafest findet
  wieder vor der Millennium City an der Donaupromenade statt! Live Musik\, 
 Salsa Tanzstunden\, Kinderprater und vieles mehr direkt vor der Tür…\n\
 nDer Salsa-Floor ist am Samstag von 12 bis 22 Uhr und Sonntag von 12 bis 2
 0 Uhr Open-Air mit Cocktails uvm.\nFür den richtigen Takt sorgt Resident 
 DJ ... DJ Gringo. Norbert macht sich bereit für die eine oder andere Open
 -Air Rueda.\n\nDer Eintritt ist frei!
CATEGORIES:Natur + Erlebnis,Party + Tanz,Spezial
LOCATION:Donaupromenade Wien\, Höhe Handelskai 94-96\, Wien\, 1200\, Öste
 rreich
GEO:48.2409586;16.386141500000008
X-APPLE-STRUCTURED-LOCATION;VALUE=URI;X-ADDRESS=Höhe Handelskai 94-96\, Wi
 en\, 1200\, Österreich;X-APPLE-RADIUS=100;X-TITLE=Donaupromenade Wien:geo
 :48.2409586,16.386141500000008
END:VEVENT
BEGIN:VTIMEZONE
TZID:Europe/Vienna
X-LIC-LOCATION:Europe/Vienna
BEGIN:DAYLIGHT
DTSTART:20120325T030000
TZOFFSETFROM:+0100
TZOFFSETTO:+0200
TZNAME:CEST
END:DAYLIGHT
END:VTIMEZONE
END:VCALENDAR