BEGIN:VCALENDAR
VERSION:2.0
PRODID:-//wp-events-plugin.com//7.2.3.1//EN
TZID:Europe/Vienna
X-WR-TIMEZONE:Europe/Vienna
BEGIN:VEVENT
UID:676@magixx.at
DTSTART;TZID=Europe/Vienna:20211013T193000
DTEND;TZID=Europe/Vienna:20211014T003000
DTSTAMP:20211011T101229Z
URL:https://www.magixx.at/events/noche-latina-die-salsa-after-work-party-w
 ien-13-10-2021/
SUMMARY:Noche Latina - die Salsa\, Bachata After Work Party - jeden Mittwoc
 h im Jo & Joe Wien
DESCRIPTION:&nbsp\;\n\nDer neue Salsa Event in Wien\n\nNoche Latina\nSalsa\
 , Bachata &amp\; Latin After Work Party\n jeden Mittwoch im Jo &amp\; Joe
  beim Westbahnhof\n"Best of Salsa in Vienna" - wechselnde DJs\, wechselnde
  Tanz Coaches\, wechselnde Workshops\, wechselnde Animationen\nTop Locatio
 n im neuen IKEA Gebäude\n\n wechselnde DJs\n wechselnde Workshops\n wechs
 elnde TOP Gast Stars / Animation\n\nTop Drinks &amp\; Cocktails - Achtung 
 nur Kartenzahlung\n\n6 Euro (Organisationsbeitrag)\n\nProgramm am 13.10.20
 21\n\n19:30 Salsa Basic / Anfänger Workshop kostenlos\n20:30 - 0:30 Party
  mit DJ Jorge "Koke"\n21:30 Best of our friend Moises (Cuba)\n\n\nProgramm
  am 20.10.2021\n\n19:30 Bachata Workshop mit Stefan Stacher (10 Euro)\n20:
 30 - 0:30 Party mit DJ Steve Manera\n\n\n\n\n\n***************************
 *************\nBrand NEW in Vienna\n\nNoche Latina\nSalsa\, Bachata &amp\;
  Latin After Work Party\nevery Wednesday at Jo &amp\; Joe / in the new IKE
 A building Westbahnhof\n\n changing DJs\n changing Workshops &amp\; Animat
 ion\n\n19:30-20:30 Salsa/Bachata Workshops\n20:30-0:30 Party\n\n\n6 Euro (
 organisation fee)\n\nUnser DJ &amp\; Animation 13. Oktober 2021\n\n\n\n\n\
 n\n \n\n\n\n\n\n\n\nDJ Jorge (Chile)\n\n\n\n\nDJ Steve Manera (Vienna)\n\n
 \n\n\n\n
ATTACH;FMTTYPE=image/jpeg:https://i0.wp.com/www.magixx.at/wp-content/uploa
 ds/2021/09/Noche-Latina-2021-V3-scaled.jpg?fit=2560%2C1814&ssl=1
CATEGORIES:Party + Tanz,Spezial
END:VEVENT
BEGIN:VTIMEZONE
TZID:Europe/Vienna
X-LIC-LOCATION:Europe/Vienna
BEGIN:DAYLIGHT
DTSTART:20210328T030000
TZOFFSETFROM:+0100
TZOFFSETTO:+0200
TZNAME:CEST
END:DAYLIGHT
END:VTIMEZONE
END:VCALENDAR