BEGIN:VCALENDAR
VERSION:2.0
PRODID:-//wp-events-plugin.com//7.2.3.1//EN
TZID:Europe/Vienna
X-WR-TIMEZONE:Europe/Vienna
BEGIN:VEVENT
UID:674@magixx.at
DTSTART;TZID=Europe/Vienna:20211006T190000
DTEND;TZID=Europe/Vienna:20211007T003000
DTSTAMP:20211005T195638Z
URL:https://www.magixx.at/events/noche-latina-salsa-party-wien/
SUMMARY:Noche Latina - die Salsa\, Bachata After Work Party - jeden Mittwoc
 h im Jo & Joe Wien
DESCRIPTION:\nDer neue Salsa Event in Wien\n\nNoche Latina\nSalsa\, Bachata
  &amp\; Latin After Work Party\n jeden Mittwoch im Jo &amp\; Joe beim Wes
 tbahnhof\n"Best of Salsa in Vienna" - wechselnde DJs\, wechselnde Tanz Coa
 ches\, wechselnde Workshops\, wechselnde Animationen\nTop Location im neue
 n IKEA Gebäude\nab 6. Oktober 2021\n\n DJs: Jorge &amp\; Steve Manera &a
 mp\; ...\n Workshops &amp\; Animation von Yusimi (Cuba)\, Yuri (Cuba)\, St
 eve (Wien) &amp\; ....\n\nTop Drinks &amp\; Cocktails von Joe (Cuba)\n\n10
  Euro (Organisationsbeitrag inkl. Getränkebon)\nGetränkebon gilt für So
 ftdrink\, Spritzer\, Bier\, Aperolspritz\n\n\nWorkshops am 6.10.2021\n19:0
 0 Salsa Cubana Partnerwork Workshop Intermediate mit Yuri\n20:00 Salsa Par
 tnerwork Workshop mit Styling mit Yusimi\nEinlass zur Party ab 20:30\n\n\n
 Workshops 10 Euro\nbeide Workshops 15 Euro\nweitere Details folgen\n******
 **********************************\nBrand NEW in Vienna\n\nNoche Latina\nS
 alsa\, Bachata &amp\; Latin After Work Party\nevery Wednesday at Jo &amp\;
  Joe / in the new IKEA building Westbahnhof\nOpening Event on 6th October 
 2021\n\n DJs: Jorge &amp\; Steve Manera &amp\; ...\n Workshops &amp\; Ani
 mation with Yusimi\, Yuri\, Steve &amp\; ....\n\nfrom 19:00 Salsa Workshop
 s\n20:30 Party\n\n10 Euro (organisation fee + drink voucher)\nWorkshops 10
  Euro\nboth Workshops 15 Euro\n\nUnsere DJs und Tanz-Coaches am 6. Oktober
  2021\n\n\n\n\n\n\nYusimi (Cuba)\n\n\n\n\nYuri (Cuba\n\n\n\n\nDJ Jorge (Ch
 ile)\n\n\n\n\nDJ Steve Manera (Vienna)\n\n\n\n\n\n
ATTACH;FMTTYPE=image/jpeg:https://i0.wp.com/www.magixx.at/wp-content/uploa
 ds/2021/09/Noche-Latina-2021-V3-scaled.jpg?fit=2560%2C1814&ssl=1
CATEGORIES:Party + Tanz,Spezial
END:VEVENT
BEGIN:VTIMEZONE
TZID:Europe/Vienna
X-LIC-LOCATION:Europe/Vienna
BEGIN:DAYLIGHT
DTSTART:20210328T030000
TZOFFSETFROM:+0100
TZOFFSETTO:+0200
TZNAME:CEST
END:DAYLIGHT
END:VTIMEZONE
END:VCALENDAR