BEGIN:VCALENDAR
VERSION:2.0
PRODID:-//wp-events-plugin.com//7.2.3.1//EN
TZID:Europe/Vienna
X-WR-TIMEZONE:Europe/Vienna
BEGIN:VEVENT
UID:672@magixx.at
DTSTART;TZID=Europe/Vienna;VALUE=DATE:20210917
DTEND;TZID=Europe/Vienna;VALUE=DATE:20210920
DTSTAMP:20210823T105206Z
URL:https://www.magixx.at/events/salsa-alm-2021-hochkar/
SUMMARY:Salsa Alm 2021- Hochkar - ABGESAGT
DESCRIPTION:Wir müssen die Salsa Alm 2021 leider absagen\n-&gt\; Alternati
 ve Salsa Alm Mini auf die Enzianhütte (Kieneck) - maximal 15 Personen (18
 .-19. September 2021) (Infos bei Interesse bitte per Mail anfordern)\n\nSc
 hweren Herzens und trotz intensiver Bemühungen muss ich die Salsa Alm 202
 1 leider nun endgültig absagen.\nEs gab leider mehrere Komplikationen mit
  dem Hotel - Covid bedingt und betreffend der Party Location.\nEine altern
 ative und passende Location war trotz intensiver Bemühungen so kurzfristi
 g auch nicht mehr zu finden.\n\nAlle Anzahlungen werden selbstverständlic
 h zu 100% zurück bezahlt!\n\nABER SALSA ALM 2022 wird noch größer und n
 och besser - und zwar als SALSA ALM FESTIVAL 2022\n\nmit regionalen und in
 ternationalen Instruktoren\, trotzdem familiär und freundschaftlich mit v
 iel Natur und Entspannung und Spaß und Party und .....\n\nLiebe Grüße\n
 \nPeter &amp\; das MagiXx Team\n\n\n\n3. SALSA ALM | 2021 | NEU auf dem Ho
 chkar\nSalsa\, Natur\, Party und Spaß auf 1.500 Meter Seehöhe\n\n[captio
 n id="attachment_2891" align="aligncenter" width="300"] (c) JUFA Hotels[/c
 aption]\nSalsa Alm Programm Übersicht\nEs erwartet Dich ein einzigartiges
  Wochenende. Ob Du es nun eher gemütlich angehen möchtest oder gleich me
 hr Action haben willst. Es gibt für Alle das Richtige.\nMIT DEN TOP-SALSA
 -INSTRUKTOREN MICHELA &amp\; STEFANO AUS ITALIEN\nLeider ist die Planneral
 m heuer nicht möglich - daher sind wir am Hochkar :-)\n\nUm nur ein paar 
 Highlights zu erwähnen:\n\n 	Salsa Partys\n 	Salsa\, Rumba und Styling Wo
 rkshops\n 	Wellness\n 	Alm-Yoga\n 	Wanderung\n 	Rueda\n 	Almsalsa\n 	tolle
  Buffets (Früh und Abend)\n\nWo?\nSalsa Alm 2021 findet heuer erstmals au
 f dem Hochkar auf 1.500 Meter Seehöhe statt.\nZu Gast sind wir im wunders
 chönen JUFA Hotel.\n\nHier kann man die unzähligen Möglichkeiten der Be
 rgwelt genießen. Es gibt Möglichkeiten zum Bogenschießen oder Kletter
 n. Traditionelles Wellness findest Du an den Kneipstellen. Genießen die 
 frische Luft und das heilsame Hochgebirgsklima.\n\nDas Alpin-Resort bietet
  ideale Rahmenbedingungen. Es gibt Tischtennis\, Billard und Tischfußball
  und eine großzügige Gartenanlage mit Funcourt. Der hauseigene Wellness
 bereich mit Kräuter- und Finnischer Sauna oder die gemütliche Kegelbahn 
 lassen jeden Abend perfekt ausklingen. Genieße mit Freunden das abendlich
 e Bergpanorama – der klare Sternenhimmel verzaubert!\n\n[caption id="att
 achment_2940" align="aligncenter" width="300"] (c) JUFA Hochkar[/caption]\
 nErlebniswelt Mendlingtal\n\n\n\n\n\nIn der Erlebniswelt Mendlingtal\, ein
 e der letzten Holztriftanlagen Österreichs\, sind Sie ganz bestimmt auf d
 em richtigen „Holzweg“. Auf dem Themenwanderweg gibt es viel zu entdec
 ken: Schmiedegesellenhaus Museum\, Venezianer-Holzbrettersäge\, Triftanla
 ge\, Getreidemühle und ganz wichtig\, das Hammerherrenhaus\, ein schönes
  Gasthaus mit Kinderspielplatz.\n\n\n\n\n\nDas Programm\nÄnderungen und E
 rweiterungen vorbehalten\nFreitag\n\n 	Anreise\n 	Wellness\n 	Begrüssungs
 salsa / Suelta / Zumba - Outdoor\n 	Salsa Cubano Workshop\n 	Bogenschiesse
 n (Option)\n 	gemeinsames Abendessen (Buffet)\n 	Salsa Alm Party - wer Tra
 cht hat mir Tracht :-)\n\nSamstag\n\n 	Frühstück\n 	Alm-Yoga\n 	Wanderun
 g mit Alm Salsa\n 	Gipfelsalsa\, Almrueda\n 	Zumba Outdoor /Suelta\n 	Bach
 ata Workshop\n 	Salsa Cubano Workshop\n 	gemeinsames Abendessen (Buffet)\n
  	Salsa Mondschein Party\n\nSonntag\n\n 	Frühstück\n 	Lady Styling Works
 hop\n 	Men Styling &amp\; Rhythm Workshop\n 	Morgen-Yoga oder Phantasierei
 se\n 	gemütliche Wanderung ins Mendlingtal (Holzdrift)\n 	gemeinsame Schl
 ussrueda und gemütliches Ausklingen\n 	Abreise \n\nACHTUNG: für die Wan
 derungen ist auf geeignete Kleidung zu achten. Wir sind im Hochgebirge. Al
 so bitte Bergschuhe\, Rucksack und auch entsprechende Hose und Jacke mitne
 hmen.\nLeistungen und Preise\nÄnderungen vorbehalten - es gibt maximal 42
  Plätze - findet ab 20 Personen fix statt\nSalsa Alm 2021 im Doppelzimmer
  (nur Doppelbelegung möglich)\n2 Nächte im Doppelzimmer mit Du/WC/TV/Saf
 e\nFrühstück und Abendessen (Buffet)\nAktivitäten laut Plan Freitag\, S
 amstag und Sonntag\ninklusive aller Workshops!!!\nSalsa Partys am Berg\n\n
 Frühbucherpreis bis 31.7.2021\n200 Euro / Person\n\nab 1.8.2021: 220 Euro
 /Person\nSalsa Alm 2021 im Friends 3-Bett Zimmer (nur 3er-Belegung möglic
 h)\n2 Nächte im 3er Zimmer mit Du/WC/TV/Safe\nFrühstück und Abendessen 
 (Buffet)\nAktivitäten laut Plan Freitag\, Samstag und Sonntag\ninklusive 
 aller Workshops!!!\nSalsa Partys am Berg\n\nFrühbucherpreis bis 31.7.2021
 \n185 Euro / Person\n\nab 1.8.2021: 200 Euro/Person\ninkl. Nächtigungsabg
 abe\n\nAnzahlung 50% - bitte Bestätigungsmail mit allen Details und Zahlu
 ngsinfos abwarten\n\nDie Buchung muss entweder hier über die Homepage ode
 r per Mail erfolgen. Bitte vergesst nicht bei der Buchung auch eine Telefo
 nnummer anzugeben\, falls wir euch erreichen müssen.\nDie Reservierung gi
 lt erst mit Überweisung der Anzahlung von 50% des Gesamtbetrages auf unse
 r Konto\nbei der Raiffeisenbank Wienerwald\, IBAN: AT913266700001218668\, 
 BIC: RLNWATWWPRB\nlautend auf Peter Gstettner\, MagiXx\nFragen\nBei Fragen
  stehen wir Dir gerne per Mail oder über den Facebook Event zur Verfüg
 ung.\nFlyer zum Ausdrucken oder Weiterleiten\n\nBuchungsbedingungen\nMinde
 stteilnehmerzahl 20 - bei geringerer Teilnehmerzahl oder wetterbedingten L
 iftausfall behält sich der Veranstalter eine Absage vor. Bis dahin einbez
 ahlte Beträge werden in dem Fall zurückbezahlt. Es gelten die Allgemeine
 n Bedingungen Geschäftsbedingungen von MagiXx\, Gstettner Peter insbesond
 ere die geltenden Stornobedingungen für Veranstaltungen.
ATTACH;FMTTYPE=image/jpeg:https://i0.wp.com/www.magixx.at/wp-content/uploa
 ds/2021/07/Salsa-Alm-2021-Flyer-V2-Seite1.jpg?fit=2506%2C1772&ssl=1
CATEGORIES:Party + Tanz,Natur + Erlebnis,Spezial
LOCATION:JUFA Hochkar\, Lassing 49\, Göstling an der Ybbs\, Niederösterre
 ich\, 3345\, Österreich
GEO:47.718911;14.916424
X-APPLE-STRUCTURED-LOCATION;VALUE=URI;X-ADDRESS=Lassing 49\, Göstling an d
 er Ybbs\, Niederösterreich\, 3345\, Österreich;X-APPLE-RADIUS=100;X-TITL
 E=JUFA Hochkar:geo:47.718911,14.916424
END:VEVENT
BEGIN:VTIMEZONE
TZID:Europe/Vienna
X-LIC-LOCATION:Europe/Vienna
BEGIN:DAYLIGHT
DTSTART:20210328T030000
TZOFFSETFROM:+0100
TZOFFSETTO:+0200
TZNAME:CEST
END:DAYLIGHT
END:VTIMEZONE
END:VCALENDAR