BEGIN:VCALENDAR
VERSION:2.0
PRODID:-//wp-events-plugin.com//7.2.3.1//EN
TZID:Europe/Vienna
X-WR-TIMEZONE:Europe/Vienna
BEGIN:VEVENT
UID:673@magixx.at
DTSTART;TZID=Europe/Vienna;VALUE=DATE:20220909
DTEND;TZID=Europe/Vienna;VALUE=DATE:20220912
DTSTAMP:20220725T161629Z
URL:https://www.magixx.at/events/salsa-alm-2022-siegmundsberg/
SUMMARY:ABGESAGT - Salsa Alm Festival 2022- September 2022 - Sigmundsberg /
  Mariazell
DESCRIPTION:3. SALSA ALM - September 2022 | NEU am Sigmundsberg bei Mariaze
 ll\nSalsa Alm = Salsa\, Workshops\, Natur\, Party und Spaß\n\nSalsa Alm P
 rogramm Übersicht\nEs erwartet Dich ein einzigartiges Wochenende. Ob Du e
 s nun eher gemütlich angehen möchtest oder gleich mehr Action haben will
 st. Bei der Salsa Alm gibt es für Alle das Richtige.\nMIT TOP-SALSA-INSTR
 UKTOREN &amp\; DJ\n\nUm nur ein paar Highlights zu erwähnen:\n\n 	Salsa P
 artys\n 	Salsa\, Rumba und Styling Workshops\n 	Wellness\n 	Alm-Yoga\n 	Wa
 nderungen\n 	Rueda\n 	Almsalsa\n 	tolle Buffets (Früh und Abend)\n 	uvm.\
 n\nAuf eure Teilnahme freuen sich Marion &amp\; Peter\nInstruktorinnen - I
 nstruktoren\n\n 	Yusimi (Cuba)\n 	Yunel (Cuba)\n 	Norbert (Österreich)\n 
 	Georg (Österreich)\n\nDJs\n\n 	Jorge\n 	MagiXx Peter\n\nWo?\nDie Salsa A
 lm 2022 findet erstmals bei Mariazell am Sigmundsberg statt. Wir sind zu G
 ast im JUFA Hotel Sigmundsberg.\nHier kann man die unzähligen Möglichkei
 ten der Bergwelt genießen. Das Alpin-Resort bietet ideale Rahmenbedingung
 en. Genieße mit Freunden das abendliche Bergpanorama – der klare Sterne
 nhimmel verzaubert!\n\n[ngg src="galleries" ids="2" display="basic_thumbna
 il"](c) JUFA Hotels\nDas Programm\nÄnderungen und Erweiterungen möglich\
 nFreitag\n\n 	Anreise\n 	Wellness\n 	Begrüssungssalsa / Suelta / Zumba - 
 Outdoor\n 	1-2 Workshops\n 	gemeinsames Abendessen (Buffet)\n 	Die Salsa A
 lm Party - wer Tracht hat mit Tracht :-)\n\nSamstag\n\n 	Frühstück (Buff
 et)\n 	Alm-Yoga\n 	Wanderung mit Alm Salsa\n 	Gipfelsalsa\, Almrueda\n 	Zu
 mba Outdoor /Suelta\n 	4 Workshops\n 	gemeinsames Abendessen (Buffet)\n 	S
 alsa Mondschein Party mit DJ Jorge\n\nSonntag\n\n 	Frühstück (Buffet)\n 
 	2 Workshop\n 	Morgen-Yoga oder Phantasiereise\n 	gemütliche Wanderung\n 
 	gemeinsame Schlussrueda und gemütliches Ausklingen\n 	Abreise&nbsp\;\n\n
 ACHTUNG: für die Wanderungen ist auf geeignete Kleidung zu achten. Wir si
 nd im Hochgebirge. Also bitte Bergschuhe\, Rucksack und auch entsprechende
  Hose und Jacke mitnehmen.\nLeistungen und Preise\nÄnderungen vorbehalten
  - es gibt aktuell maximal 60 Plätze - findet ab 30 Personen fix statt\nS
 alsa Alm 2022 im Einzelzimmer\n2 Nächte im Einzelzimmer mit Du/WC/TV\nFr
 ühstück und Abendessen (Buffet)\nAktivitäten laut Plan Freitag\, Samsta
 g und Sonntag\ninklusive aller Workshops!!!\nSalsa Partys am Berg\n\nFrüh
 bucherpreis bis 30. Juni 2022\n319 Euro/Person\n\nab 1. Juli.2022\n350 Eur
 o/Person\nSalsa Alm 2022 im Doppelzimmer (nur Doppelbelegung möglich)\n\n
 2 Nächte im Doppelzimmer mit Du/WC/TV/Safe\nFrühstück und Abendessen (B
 uffet)\nAktivitäten laut Plan Freitag\, Samstag und Sonntag\ninklusive al
 ler Workshops!!!\nSalsa Partys am Berg\n\nFrühbucherpreis bis 30. Juni 20
 22\n299 Euro/Person\n\n\nab 1. Juli.2022\n330 Euro/Person\ninkl. Nächtigu
 ngsabgabe\n\nAnzahlung 50% - bitte Bestätigungsmail mit allen Details und
  Zahlungsinfos abwarten\n\nDie Buchung muss entweder hier über die Homepa
 ge oder per Mail erfolgen. Bitte vergesst nicht bei der Buchung auch eine 
 Telefonnummer anzugeben\, falls wir euch erreichen müssen.\nDie Reservier
 ung gilt erst mit Überweisung der Anzahlung von 50% des Gesamtbetrages au
 f unser Konto\nbei der Raiffeisenbank Wienerwald\, IBAN: AT913266700001218
 668\, BIC: RLNWATWWPRB\nlautend auf Peter Gstettner\, MagiXx\nFragen\nBei 
 Fragen stehen wir Dir gerne per Mail oder über den&nbsp\;Facebook Event&n
 bsp\;zur Verfügung.\nFlyer zum Ausdrucken oder Weiterleiten\nin Kürze\nB
 uchungsbedingungen\nMindestteilnehmerzahl 30 - bei geringerer Teilnehmerza
 hl oder wetterbedingten Liftausfall behält sich der Veranstalter eine Abs
 age vor. Bis dahin einbezahlte Beträge werden in dem Fall zurückbezahlt.
  Es gelten die Allgemeinen Bedingungen Geschäftsbedingungen von MagiXx\, 
 Gstettner Peter insbesondere die geltenden Stornobedingungen für Veransta
 ltungen.
ATTACH;FMTTYPE=image/jpeg:https://i0.wp.com/www.magixx.at/wp-content/uploa
 ds/2021/08/Salsa-Alm-2022-Banner.jpg?fit=2512%2C813&ssl=1
CATEGORIES:Party + Tanz,Natur + Erlebnis,Spezial
LOCATION:JUFA Sigmundsberg\, Sigmundsberg 1\, St. Sebastian\, 8630 \, Öste
 rreich
GEO:47.756316;15.304171
X-APPLE-STRUCTURED-LOCATION;VALUE=URI;X-ADDRESS=Sigmundsberg 1\, St. Sebast
 ian\, 8630 \, Österreich;X-APPLE-RADIUS=100;X-TITLE=JUFA Sigmundsberg:geo
 :47.756316,15.304171
END:VEVENT
BEGIN:VTIMEZONE
TZID:Europe/Vienna
X-LIC-LOCATION:Europe/Vienna
BEGIN:DAYLIGHT
DTSTART:20220327T030000
TZOFFSETFROM:+0100
TZOFFSETTO:+0200
TZNAME:CEST
END:DAYLIGHT
END:VTIMEZONE
END:VCALENDAR