BEGIN:VCALENDAR
VERSION:2.0
PRODID:-//wp-events-plugin.com//7.2.3.1//EN
TZID:Europe/Vienna
X-WR-TIMEZONE:Europe/Vienna
BEGIN:VEVENT
UID:712@magixx.at
DTSTART;TZID=Europe/Vienna:20230909T090000
DTEND;TZID=Europe/Vienna:20230909T200000
DTSTAMP:20230902T122858Z
URL:https://www.magixx.at/events/salsa-alm-wandern-tanzen-salsa-2023/
SUMMARY:Mini Salsa Alm - Wandern\, Tanzen\, Fliegen - 9. September 2023
DESCRIPTION:Die Natur genießen\, plaudern\, wandern\, Salsa und Bachata am
  Berg tanzen und dann ins Tal fliegen.\nDas ist die heurige Mini Salsa Alm
 \nam Samstag\, 9. September 2023.\nBegrenzte Teilnehmerzahl (bitte rasch b
 uchen wegen ZIP Line Reservierung).\nDie letzte Salsa Alm ist schon ein pa
 ar Jahre her - und bevor es nächstes Jahr wieder ein ganzes Wochenende gi
 bt - machen wir heuer eine Wanderung mit Salsa auf der Annaalm.\nDen krön
 enden Abschluss bildet der ZIP Line Abflug.\n\nDer Ablauf\nTreffpunkt 9:00
  U6 Siebenhirten (vor der Bäckerei Szhin)\nDann Aufteilung auf vorhanden 
 Autos und dann fahren wir etwa 1h20 zum Annaberg. Der Aufstieg dauert etwa
  3 Stunden (2 h reine Gehzeit). Festes Schuhwerk und Wanderausrüstung erf
 orderlich. Auf Wiesen und Wegen wird dazwischen natürlich getanzt. Natür
 lich tanzen wir dann auch auf der Hütte oben - mit traumhafter Aussicht.\
 n\nAb 16:00 gibt es dann in 4er Gruppen einen Abflug mit etwa 100 km/h üb
 er die ZIP Line ins Tal. Auf geeigneten Plätzen wird Salsa\, Chachacha un
 d Bachata gespielt.\nAuf der Anna Alm gibt es natürlich zu Trinken und zu
  Essen.\n\nWer keinen Flug wagen möchte kann natürlich auch wieder "norm
 al" hinunter gehen. Der Abstieg dauert dann etwa 2 Stunden.\n\nUnten dann 
 noch ein gemütlicher Ausklang bei gemütlichen Bachata und Salsa.\nBist D
 u dabei?\n\n\nDann melde Dich bitte hier rasch an. Begrenzte Teilnehmerzah
 l.\nDer Gesamtbetrag von 36 Euro (5 Euro Organisationspauschale und 31 Eur
 o der ZIP Line Flug) ist bitte nach Buchungsbestätigung umgehend auf das 
 MagiXx Konto zu überweisen\,\n\nIch freue mich auf die Mini Salsa Alm mit
  dir!\nBUCHUNG FLUG MIT KREDITKARTEN ZAHLUNG\n[contact-form-7 id="f08703a"
  title="Anmeldung Mini Salsa Alm 2023"]\n\n&nbsp\;
ATTACH;FMTTYPE=image/jpeg:https://i0.wp.com/www.magixx.at/wp-content/uploa
 ds/2023/08/Mini-Salsa-Alm-2023-Banner-V1-1.jpg?fit=2488%2C1247&ssl=1
CATEGORIES:Natur + Erlebnis,Party + Tanz,Spezial
LOCATION:Annaalm\, Annarotte 126\, Annaberg\, 3222\, Österreich
GEO:47.875684;15.366738
X-APPLE-STRUCTURED-LOCATION;VALUE=URI;X-ADDRESS=Annarotte 126\, Annaberg\, 
 3222\, Österreich;X-APPLE-RADIUS=100;X-TITLE=Annaalm:geo:47.875684,15.366
 738
END:VEVENT
BEGIN:VTIMEZONE
TZID:Europe/Vienna
X-LIC-LOCATION:Europe/Vienna
BEGIN:DAYLIGHT
DTSTART:20230326T030000
TZOFFSETFROM:+0100
TZOFFSETTO:+0200
TZNAME:CEST
END:DAYLIGHT
END:VTIMEZONE
END:VCALENDAR