BEGIN:VCALENDAR
VERSION:2.0
PRODID:-//wp-events-plugin.com//7.2.3.1//EN
TZID:Europe/Vienna
X-WR-TIMEZONE:Europe/Vienna
BEGIN:VEVENT
UID:675@magixx.at
DTSTART;TZID=Europe/Vienna;VALUE=DATE:20220303
DTEND;TZID=Europe/Vienna;VALUE=DATE:20220307
DTSTAMP:20220226T132031Z
URL:https://www.magixx.at/events/salsa-and-snow-niederalpl-2022/
SUMMARY:Salsa and Snow Niederalpl 2022
DESCRIPTION:Dieser großartige Winter-Event vereint Schnee- und Winterspaß
  auf alle Arten mit Musik\, Party\, Salsa und Bachata. Das musst Du erlebe
 n ...
ATTACH;FMTTYPE=image/jpeg:https://i0.wp.com/www.magixx.at/wp-content/uploa
 ds/2021/09/Salsa-and-Snow-2022-Flyer-V2-Seite1.jpg?fit=2245%2C1798&ssl=1
CATEGORIES:Party + Tanz,Natur + Erlebnis,Spezial
LOCATION:Schigebiet Niederalpl\, Niederalpl 14\, Mürzsteg\, Steiermark\, 8
 693\, Österreich
X-APPLE-STRUCTURED-LOCATION;VALUE=URI;X-ADDRESS=Niederalpl 14\, Mürzsteg\,
  Steiermark\, 8693\, Österreich;X-APPLE-RADIUS=100;X-TITLE=Schigebiet Nie
 deralpl:geo:0,0
END:VEVENT
BEGIN:VTIMEZONE
TZID:Europe/Vienna
X-LIC-LOCATION:Europe/Vienna
BEGIN:STANDARD
DTSTART:20211031T020000
TZOFFSETFROM:+0200
TZOFFSETTO:+0100
TZNAME:CET
END:STANDARD
END:VTIMEZONE
END:VCALENDAR