BEGIN:VCALENDAR
VERSION:2.0
PRODID:-//wp-events-plugin.com//7.2.3.1//EN
TZID:Europe/Vienna
X-WR-TIMEZONE:Europe/Vienna
BEGIN:VEVENT
UID:664@magixx.at
DTSTART;TZID=Europe/Vienna;VALUE=DATE:20190914
DTEND;TZID=Europe/Vienna;VALUE=DATE:20190916
DTSTAMP:20190908T115817Z
URL:https://www.magixx.at/events/salsa-auf-der-alm/
SUMMARY:Salsa auf der Alm 2019
DESCRIPTION:ACHTUNG: Es gibt wieder ein Zweibett-Zimmer. Wir nur an eine Fr
 au UND einen Mann vergeben (wegen dem Verhältnis beim Tanzen :-))\n\nNach
  Salsa and Snow gehen wir wieder einen neuen\, innovativen Weg. Heuer gibt
  es das erste Mal\n\n\nDas ist Salsa und Spaß auf 1.545 Meter Seehöhe.\n
 Was erwartet Dich?\nNatur\, Salsa\, Bachata\, Alm\, Wanderungen\, Waldbade
 n\, Phantasiereise\, Ruhe und Party\, Rueda mit Fernblick\, Gipfelsalsa 
 ….\n\nACHTUNG: für die Wanderungen ist auf geeignete Kleidung zu achten
 . Wir sind im Hochgebirge. Also bitte Bergschuhe\, Rucksack und auch entsp
 rechende Hose und Jacke mitnehmen.\nWo?\nSalsa auf der Alm findet auf der 
 Rax auf 1.500 Meter Seehöhe statt.\nDas heißt die etwas Gehfaulen brauch
 en nur mit der Gondelbahn rauf zu fahren und können sich dann oben verwö
 hnen lassen. Der Rest darf sich oben sportlich austoben und dann am Abend 
 bei der Salsa Party das Tanzbein in der Höhenluft schwingen. Wir empfehle
 n jedoch mit der Seilbahn anzureisen.\n\nUnser Organisations- und Werbetea
 m besteht aus\nMarion Trska und Peter Gstettner / MagiXx als ausführende 
 Firma.\nDas Programm\nÄnderungen vorbehalten\n\nSamstag - Actionday\neige
 ne Anreise und entweder Auffahrt mit der Gondelbahn (empfohlen\, es wird e
 in eigenes Gruppenpaket geben) oder Wanderung hinauf (mind. 3 Stunden Gehz
 eit)\n\n10:00 Abfahrt der Gondel der Raxbahn (pünktlich)\n\n10:30 Treffpu
 nkt Bergstation Rax\n11:00 Wanderung zur Seehütte mit Gipfelsalsa und lus
 tiger Hüttenrunde / Almrueda\nAlternativ gemütlicher Tag auf der Bergsta
 tion (Liegestuhl) und die Umgebung erkunden\n17:00 Zumba Outdoor mit Peter
  (ca. 30 Minuten)\n18:30 Rueda mit Fernblick\n19:30 gemeinsames Abendessen
  (Buffet)\n20:30/21:00 -&gt\; Salsa Party im Berggasthof\n\nSonntag - Rela
 xday\n\nab 8:00 Frühstück\n\n10:00 Guten Morgen Phantasiereise bei der B
 ergstation\n\n10:30 gemeinsame Märchenweg Wanderung auf geheimen Wegen ü
 ber das Raxplateau\, mit Almrueda und Salsa\n16:00 gemeinsame Schlussrueda
  und gemütliches Ausklingen bei der Bergstation\n\nAbreise bzw. Talfahrt\
 nLeistungen und Preise\nBerg- und Talfahrt Gruppen Spezialtarif\n25 Euro /
  Person\nPaket DZ Komfort (ausgebucht)\n1 Nacht im Doppelzimmer "Komfort" 
 mit DU und WC im Zimmer - nur Buchung für Zwei möglich\nFrühstück und 
 Abendessen (Vor- und Hauptspeise)\nAktivitäten laut Plan am Samstag und S
 onntag\nSalsa Party am Berg\n95 Euro / Person\nPaket EZ Komfort (ausgebuch
 t)\n1 Nacht im Einzelzimmer "Komfort" mit DU und WC im Zimmer\nFrühstück
  und Abendessen (Vor- und Hauptspeise)\nAktivitäten laut Plan am Samstag 
 und Sonntag\nSalsa Party am Berg\n114 Euro / Person\nPaket DZ Bergland 1. 
 Stock (nur zu Zweit buchbar)\n1 Nacht im Zweibettzimmer "Bergland" mit DU 
 und WC am Gang\nFrühstück und Abendessen (Vor- und Hauptspeise)\nAktivit
 äten laut Plan am Samstag und Sonntag\nSalsa Party am Berg\n77 Euro / Per
 son - Einzelzimmeraufschlag 12 Euro (aber bitte aus Platzmangel zu Zweit b
 uchen)\nPaket DZ Bergland 2. Stock (nur zu Zweit oder Dritt buchbar)\n1 Na
 cht im Zwei- oder Dreibettzimmer "Bergland" mit DU und WC am Gang\nFrühst
 ück und Abendessen (Vor- und Hauptspeise)\nAktivitäten laut Plan am Sams
 tag und Sonntag\nSalsa Party am Berg\n67 Euro / Person\n\nAlle Buchungen p
 lus 2\,40 Nächtigungsabgabe pro Person/Nacht\n\nUm Anzahlung von 50% bei 
 Buchung wird ersucht.\n\nDie Buchung muss entweder hier über die Homepage
  oder per Mail erfolgen. Bitte vergesst nicht bei der Buchung auch eine Te
 lefonnummer anzugeben\, falls wir euch erreichen müssen.\nDie Reservierun
 g gilt erst mit Überweisung der Anzahlung von 50% des Gesamtbetrages auf 
 unser Konto\nbei der Raiffeisenbank Wienerwald\, IBAN: AT91326670000121866
 8\, BIC: RLNWATWWPRB\nlautend auf Peter Gstettner\, MagiXx\nFragen\nBei Fr
 agen stehen wir Dir gerne per Mail oder über den Facebook Event zur Ver
 fügung.\nFlyer\n \n\n&nbsp\;\nBuchungsbedingungen\nMindestteilnehmerzahl 
 20 - bei geringerer Teilnehmerzahl oder wetterbedingten Liftausfall behäl
 t sich der Veranstalter eine Absage vor. Bis dahin einbezahlte Beträge we
 rden in dem Fall zurückbezahlt. Es gelten die Allgemeinen Bedingungen Ges
 chäftsbedingungen von MagiXx\, Gstettner Peter insbesondere die geltenden
  Stornobedingungen für Veranstaltungen.\nIn Kooperation mit\n \n\n&nbsp\;
 \n\n&nbsp\;\n\n&nbsp\;\n\n&nbsp\;\n\n&nbsp\;
ATTACH;FMTTYPE=image/jpeg:https://i0.wp.com/www.magixx.at/wp-content/uploa
 ds/2019/05/Salsa-auf-der-Alm-2019-Flyer-Seite1.jpg?fit=2533%2C1801&ssl=1
CATEGORIES:Party + Tanz,Natur + Erlebnis,Spezial
LOCATION:Raxalm Berggasthof\, Kleinau 14\, Reichenau an der Rax\, Österrei
 ch
GEO:47.7170205;15.778414999999995
X-APPLE-STRUCTURED-LOCATION;VALUE=URI;X-ADDRESS=Kleinau 14\, Reichenau an d
 er Rax\, Österreich;X-APPLE-RADIUS=100;X-TITLE=Raxalm Berggasthof:geo:47.
 7170205,15.778414999999995
END:VEVENT
BEGIN:VTIMEZONE
TZID:Europe/Vienna
X-LIC-LOCATION:Europe/Vienna
BEGIN:DAYLIGHT
DTSTART:20190331T030000
TZOFFSETFROM:+0100
TZOFFSETTO:+0200
TZNAME:CEST
END:DAYLIGHT
END:VTIMEZONE
END:VCALENDAR