BEGIN:VCALENDAR
VERSION:2.0
PRODID:-//wp-events-plugin.com//7.2.3.1//EN
TZID:Europe/Vienna
X-WR-TIMEZONE:Europe/Vienna
BEGIN:VEVENT
UID:808@magixx.at
DTSTART;TZID=Europe/Vienna;VALUE=DATE:20260724
DTEND;TZID=Europe/Vienna;VALUE=DATE:20260727
DTSTAMP:20260326T110344Z
URL:https://www.magixx.at/events/salsa-moldau-tanz-spass-genuss-schlauchbo
 ot-juli-2026/
SUMMARY:Salsa und Boot an der Moldau - Tanz\, Spass\, Genuss und Fluss - di
 e Salsa Wochenende Bootstour im Schlauchboot - Juli 2026
DESCRIPTION:Salsa und Boot 2026 - Party\, Action\, Natur\, Spaß | buche ei
 ne tolle Bootstour mit Übernachtungen\, Lagerfeuer\, Grill 
ATTACH;FMTTYPE=image/jpeg:https://i0.wp.com/www.magixx.at/wp-content/uploa
 ds/2025/06/Salsa-und-Boot-2026-2-Termine.png?fit=1080%2C1080&ssl=1
CATEGORIES:Natur + Erlebnis,Party + Tanz
LOCATION:Moldau\, Krumau\, Krumau\, Tschechische Republik
GEO:48.81202880000001;14.316137300000036
X-APPLE-STRUCTURED-LOCATION;VALUE=URI;X-ADDRESS=Krumau\, Krumau\, Tschechis
 che Republik;X-APPLE-RADIUS=100;X-TITLE=Moldau:geo:48.81202880000001,14.31
 6137300000036
END:VEVENT
BEGIN:VTIMEZONE
TZID:Europe/Vienna
X-LIC-LOCATION:Europe/Vienna
BEGIN:DAYLIGHT
DTSTART:20260329T030000
TZOFFSETFROM:+0100
TZOFFSETTO:+0200
TZNAME:CEST
END:DAYLIGHT
END:VTIMEZONE
END:VCALENDAR