BEGIN:VCALENDAR
VERSION:2.0
PRODID:-//wp-events-plugin.com//7.2.3.1//EN
TZID:Europe/Vienna
X-WR-TIMEZONE:Europe/Vienna
BEGIN:VEVENT
UID:668@magixx.at
DTSTART;TZID=Europe/Vienna:20200627T093000
DTEND;TZID=Europe/Vienna:20200627T194500
DTSTAMP:20200621T065129Z
URL:https://www.magixx.at/events/salsa-wandern-sonnenwende-verbinde-deine-
 leidenschaften-21-juni-2020/
SUMMARY:2. Salsa Wandern - verbinde Deine Leidenschaften - 27. Juni 2020
DESCRIPTION:ACHTUNG auf Samstag 27. Juni verschoben!\nDie Natur genießen u
 nd gleichzeitig einem tollen Hobby nachgehen. Die zweite Salsa Wanderung.\
 nVerbinde zwei Leidenschaften zu einem tollen Tag.\nSalsa (und auch Bachat
 a) mit einer Wanderung findet das zweite Mal am 27. Juni 2020 statt.\nDies
 mal geht es auf die gemütliche Anna-Alm. Mehr hier ...\n\n\n&nbsp\;\n\nDi
 e zweite Salsa Wanderung geht nun ein wenig in die "Ferne" und zwar auf de
 n Annaberg mit Ziel Anna-Hütte.\nDer Ablauf\nTreffpunkt 9:30 U6 Siebenhir
 ten (vor der Bäckerei Szhin)\nDann Aufteilung auf vorhanden Autos - mit M
 aske - und dann fahren wir etwa 1h20 auf den Annaberg. Der Aufstieg dauert
  etwa 2 Stunden (reine Gehzeit). Festes Schuhwerk und Wanderausrüstung er
 forderlich. Auf Wiesen und Wegen wird dazwischen natürlich getanzt. Natü
 rlich tanzen wir dann auch auf der Hütte oben - mit traumhafter Aussicht.
 \n\nVielleicht gibt es auch ein Sonnwendfeuer. Aber das ist heuer noch nic
 ht fix oben. Wie gesagt: auf geeigneten Plätzen wird Salsa\, Chacha und B
 achata Musik gespielt. Ruedas gibt es leider keine. Auf der Anna Alm gibt 
 es natürlich zu Trinken und zu Essen.\n\nDer Abstieg dauert dann ebenso e
 twa 2 Stunden. Die Rückkehr ist je nach Feuer oder nicht Feuer für etwa 
 17:00 bzw. 21:00 geplant.\nBist Du dabei?\n\n\nDann melde Dich hier rasch 
 an. Begrenzte Teilnehmerzahl.\n\nTreffpunkt am 27. Juni 2020 ist um 9:30 b
 ei der Endstation der U6 in Siebenhierten.\nDie Teilnahme ist kostenlos. 
 Über eine freiwillige Spende freue ich mich natürlich.\n\nIch freue mich
  auf unsere zweite gemeinsame Salsa Wanderung.
ATTACH;FMTTYPE=image/jpeg:https://i0.wp.com/www.magixx.at/wp-content/uploa
 ds/2020/05/Salsa-Wandern-Header-V1.jpg?fit=1239%2C881&ssl=1
CATEGORIES:Natur + Erlebnis,Party + Tanz,Spezial
END:VEVENT
BEGIN:VTIMEZONE
TZID:Europe/Vienna
X-LIC-LOCATION:Europe/Vienna
BEGIN:DAYLIGHT
DTSTART:20200329T030000
TZOFFSETFROM:+0100
TZOFFSETTO:+0200
TZNAME:CEST
END:DAYLIGHT
END:VTIMEZONE
END:VCALENDAR