BEGIN:VCALENDAR
VERSION:2.0
PRODID:-//wp-events-plugin.com//7.2.3.1//EN
TZID:Europe/Vienna
X-WR-TIMEZONE:Europe/Vienna
BEGIN:VEVENT
UID:667@magixx.at
DTSTART;TZID=Europe/Vienna:20200607T100000
DTEND;TZID=Europe/Vienna:20200607T170000
DTSTAMP:20200520T104119Z
URL:https://www.magixx.at/events/salsa-wandern/
SUMMARY:Salsa Wandern - verbinde Deine Leidenschaften - 7. Juni 2020
DESCRIPTION:Die Natur genießen und gleichzeitig einem tollen Hobby nachgeh
 en.\nVerbinde zwei Leidenschaften zu einem tollen Tag.\nSalsa (und auch Ba
 chata) mit einer Wanderung findet das erste Mal am 7. Juni 2020 statt. Im 
 Zuge der Pandemie natürlich unter bestimmten Voraussetzungen. Mehr hier .
 ..\n\n\nIch habe mir nun eine Möglichkeit überlegt\, die für viele tanz
 freie Zeit etwas abwechslungsreicher zu gestalten. Der Ablauf ist wie folg
 t: man trifft sich in zunächst nur kleinen Gruppen (maximal 10 Personen) 
 und geht gemeinsam wandern - mit entsprechendem Sicherheitsabstand natürl
 ich. Die Treffpunkte sind entweder in Wien oder in der Umgebung Wiens. Wä
 hrend der Wanderung wird auf geeigneten Plätzen Salsa\, Chacha und Bachat
 a Musik gespielt und mit ein wenig Animation bewegen wir uns. Paare im gem
 einsamen Haushalt können natürlich gemeinsam tanzen. Ruedas gibt es leid
 er keine. Danach ein kleines gemeinsames Picknick mit den von allen selbst
  mitgebrachten Speisen.\n\n&nbsp\;\nBist Du dabei?\nDann melde Dich hier a
 n. Bei 9 Angemeldeten ist Schluss - also schnell :-)\n\nDer erste Treffpun
 kt am 7. Juni 2020 ist um 10:00 bei der Endstation des 60ers in Rodaun.\nD
 ie Rückkehr ist für etwa 16:00 geplant.\nDie Teilnahme ist kostenlos. Ü
 ber eine freiwillige Spende freue ich mich natürlich.\n\nIch freue mich a
 uf unsere erste gemeinsame Salsa Wanderung.
ATTACH;FMTTYPE=image/jpeg:https://i0.wp.com/www.magixx.at/wp-content/uploa
 ds/2020/05/Salsa-Wandern-Header-V1.jpg?fit=1239%2C881&ssl=1
CATEGORIES:Natur + Erlebnis,Party + Tanz,Spezial
LOCATION:Rodaun Endstation 60er\, Schillerpromenade\, Wien\, Wien\, 1230\, 
 Österreich
GEO:48.136483;16.263729
X-APPLE-STRUCTURED-LOCATION;VALUE=URI;X-ADDRESS=Schillerpromenade\, Wien\, 
 Wien\, 1230\, Österreich;X-APPLE-RADIUS=100;X-TITLE=Rodaun Endstation 60e
 r:geo:48.136483,16.263729
END:VEVENT
BEGIN:VTIMEZONE
TZID:Europe/Vienna
X-LIC-LOCATION:Europe/Vienna
BEGIN:DAYLIGHT
DTSTART:20200329T030000
TZOFFSETFROM:+0100
TZOFFSETTO:+0200
TZNAME:CEST
END:DAYLIGHT
END:VTIMEZONE
END:VCALENDAR