BEGIN:VCALENDAR
VERSION:2.0
PRODID:-//wp-events-plugin.com//7.2.3.1//EN
TZID:Europe/Vienna
X-WR-TIMEZONE:Europe/Vienna
BEGIN:VEVENT
UID:403@magixx.at
DTSTART;TZID=Europe/Vienna;VALUE=DATE:20150522
DTEND;TZID=Europe/Vienna;VALUE=DATE:20150531
DTSTAMP:20150309T124147Z
URL:https://www.magixx.at/events/schmecken-und-entdecken-pfingsten-mit-pet
 er-und-peter/
SUMMARY:Schmecken und Entdecken - Pfingsten mit Peter und Peter
DESCRIPTION:Deine flexible Naturinspiration auf einer 1000 Meter hoch gele
 genen Hütte mit Genuss\, Freude und Entspannung in der wunderschönen St
 eiermark. Buche ganz nach Wunsch zwischen einem und acht Tage und nutze di
 e vielfältigen Möglichkeiten dieses Angebots. Pfingsten mit Peter und Pe
 ter samt Spanferkel\, Sommerrodeln\, Natur\, Vollpension\, Kochkurs und 
 vielem mehr - oder einfach nur Ruhe und Genuss.\nSo schmeckt Natur - erleb
 e die Natur im Naturpark Grebenzen mit einem Koch-Profi und einem Outdoor-
 Profi. Jeden Tag gibt es ein Outdoor-Angebot und ein (Mit)Koch-Angebot. Al
 les freiwillig und kein Muss. Also möchtest Du Dich einfach einmal bekoch
 en lasse\, dann lass Dich bekochen. Möchtest Du einen Tag Action und eine
 n Tag Ruhe\, dann sei es Dir vergönnt. Und wenn Du einfach mitmachen möc
 htest\, dann mach mit. So einfach geht's.\n\nPeter und Peter entführen Di
 ch in die Berge und bieten ein außergewöhnliches Programm: jeden Tag ein
  neues Erlebnis und ein neuer Genuss - ohne Muss. Das genaue Programm entn
 imm der angefügten Liste.\n\nHier gibt es den Flyer zum Herunterladen.\nA
 lles dabei - Lust und Genuss\n\n	Nächtigung mit Vollpension (Frühstück
 \, MIttagsjause und Abendessen)\n	gemeinsames kochen mit Kochprofi Peter H
 .\n	diverse Outdoor-Aktivitäten mit Peter G.\n	Entspannungs- und Mentalau
 sflüge mit Peter G.\n	Tanzen (Bewegungs-Workshop von Manuela D.\, viellei
 cht auch Salsa ...)\n	Destillieren\, brennen\, Sommerrodeln\, Klammerlebni
 s\, Brot backen\, Brauerei Murau\, Teichwanderung\, Lagerfeuer ....\n	indi
 viduelle Tagesgestaltung\n	Golfplatz in unmittelbarer Nähe\n	Spanferkel-E
 ssen\n\nAlles soll sehr ungezwungen und locker sein. Urlaub mit Extras ebe
 n.\nUnsere Preise\nje nach Anreisetag (Anreise immer frühestens Mittags\,
  Abreise bis MIttags) haben wir unterschiedliche Preise.\n\n	Freitag\, 22.
 5.2015 - 48\,- (nur Abendessen\, Nächtigung\, Frühstück)\n	Samstag\, 23
 .5.2015 - 80\,-\n	Sonntag\, 24.5. - 98\,- (inkl. Aufpreis für Spanferkel-
 Essen)\n	Montag 25.5. bis Mittwoch 27.5. - je 65\,-\n	Donnerstag\, 28.5. 
  bis Freitag\, 29.5. - je 74\,-\n	Buchung der gesamten Woche: 520\,-\n\nAn
 meldung per Mail oder hier Online.\n\nAlle Preise pro Person\, pro Nacht\,
  exkl. Kurtaxe (1\,50)\, exkl. eventuelle Eintritte. 60% Anzahlung bei Anm
 eldung. Storno: bis 3 Wochen davor 50%\, bis 1 Woche davor 70%\, ab 6 Tage
  davor 100% der Gesamtkosten.\nUnser Programm\nTäglich außer am 22.5. Fr
 ühstück\, Mittagsjause entweder als Lunchpaket zum Mitnehmen oder im Hau
 s und dann natürlich das gemeinsame Abendessen. Es kann bei allen Kochak
 tivitäten mitgemacht werden und lerne vom Kochprofi. Änderungen oder Ver
 schiebungen (auch wetterbedingt vorbehalten)\n\nFreitag\, 22. Mai 2015\nAn
 reisetag\, gemütliches Abendessen - g'mackiges Rindsgeschnetzeltes mit Be
 ilage und als Abschluss ein Käseteller\n\nSamstag\, 23. Mai 2015\nTagesak
 tivität / Outdoor: Teichwanderung mit ein paar Natur-Inspirationen\nKoche
 n und Genuss: Sulz (Saubohnen\,Zwiebel \,Kernöl ) + Kasspatzln\n\nSonntag
 \, 24. Mai 2015 - Pfingstsonntag\nTagesaktivität / Outdoor: kleines Menta
 ltraining in der Klamm + Lagerfeuer\nKochen und Genuss: Spanferkel (mit K
 rautsalat\, Kartoffelsalat\, Senf\, Kren\, Brot/Gebäck) und anschließend
  Palatschinken\n\nMontag\, 25. Mai 2015 - Pfingstmontag\nTagesaktivität /
  Outdoor: Sommerrodelbahn\, Bewegung und erleben mit Tanztherapie (von Man
 uela) + Lagerfeuer\nKochen und Genuss: Brennessl Kräuterrahmsuppe und da
 nach Kaiserschmarren auf Zimtweichseln\n\nDienstag\, 26. Mai 2015\nTagesak
 tivität / Outdoor: Besuch der Brauerei Murau und Fantasiereise\nKochen un
 d Genuss: Das Schweinsbrat'l aus dem Ofen mit Kraut und Knödel und als A
 bschluss Bounty Tiramisu\n\nMittwoch\, 27 Mai 2015\nTagesaktivität / Out
 door: "Highlander" Games - Geschicklichkeit und Action im Freien\, Kräute
 r und Gräser entdecken\nKochen und Genuss: g'schmackiges Hüttengröstl m
 it grünem Salat und Rahmgurken und als Dessert Ildefonso Topfenknödel\n\
 nDonnerstag\, 28. Mai 2015\nTagesaktivität / Outdoor: Destillieren und Br
 ennen - wie geht's\, inkl. Kräuterwanderung und kleiner Fantasiereise\nKo
 chen und Genuss: Kaspressknödlsuppe und als Hauptspeise frischer Fisch 
 Surprise (es kann auch geangelt werden)\n\nFreitag\, 29. Mai 2015\nTagesak
 tivität / Outdoor: Naturinspirationen\, Slackline und Naturgenuss + Lager
 feuer\nKochen und Genuss: Grillabend mit Dessert\n\nSamstag\, 30. Mai 201
 5\nAbreisetag\, gemütliches Frühstück\nzu den weiteren Bildern
ATTACH;FMTTYPE=image/jpeg:https://i0.wp.com/www.magixx.at/wp-content/uploa
 ds/2015/03/schafferhof_2008_005.jpg?fit=451%2C300&ssl=1
CATEGORIES:Natur + Erlebnis,Spezial
LOCATION:Schafferhof\, Forst 331\, Mariahof\, Österreich
GEO:47.1083467;14.353468399999997
X-APPLE-STRUCTURED-LOCATION;VALUE=URI;X-ADDRESS=Forst 331\, Mariahof\, Öst
 erreich;X-APPLE-RADIUS=100;X-TITLE=Schafferhof:geo:47.1083467,14.353468399
 999997
END:VEVENT
BEGIN:VTIMEZONE
TZID:Europe/Vienna
X-LIC-LOCATION:Europe/Vienna
BEGIN:DAYLIGHT
DTSTART:20150329T030000
TZOFFSETFROM:+0100
TZOFFSETTO:+0200
TZNAME:CEST
END:DAYLIGHT
END:VTIMEZONE
END:VCALENDAR