BEGIN:VCALENDAR
VERSION:2.0
PRODID:-//wp-events-plugin.com//7.2.3.1//EN
TZID:Europe/Vienna
X-WR-TIMEZONE:Europe/Vienna
BEGIN:VEVENT
UID:18@magixx.at
DTSTART;TZID=Europe/Vienna:20130223T080000
DTEND;TZID=Europe/Vienna:20130224T180000
DTSTAMP:20121220T155340Z
URL:https://www.magixx.at/events/schneeschuh-wochenende-mit-huttnabend-am-
 schneeberg/
SUMMARY:Schneeschuh-Wochenende mit Hütt’nabend am Kuhschneeberg
DESCRIPTION:frische Bergluft\, Wälder\, herrliche Aussicht\, weicher Schne
 e\, nette Leute…\nKomm mit uns auf das MagiXx Schneeschuh-Wochenende am
  Kuhschneeberg und genieße zwei Tage „über“ dem Alltag. Der Geheimti
 pp für Schneeschuhwanderer mit leichtem Auf und Ab.\nBuchung bis 15.2.201
 3 möglich bzw. bis alle Plätze vergeben sind.\nAls kleiner Vorgeschmack
  die Bilder vom letzten Winter  http://www.magixx.at/?flagallery=fotos-m
 agixx-aktiv\n\nProgramm\nSamstag - gemütlicher Aufstieg bis zur Edelweiss
 hütte\nSonntag - Schwarzkogel (1550m) und danach Abstieg zum Klostertaler
  Gscheid\n\nInkludierte Leistungen\n     * geführte Schneeschuhwander
 ungen durch einen erfahrenen Outdoor Guide\n     *1 Übernachtung im 2
 \, 4 oder 5 Bett Zimmer auf der Edelweisshütte\n     * gemütlicher H
 üttenabend mit Bauernfondue\n     * grosses Frühstück\n     * a
 lle Abgaben (Heizzuschlag\, Touristenabgabe ...)\n\nKomplett-Preis\n66\,- 
 Euro/Person\nMitfahrmöglichkeiten vorhanden - bitte bei Buchung dazu schr
 eiben\nSchneeschuhe können zum Preis von 10\,-/Tag ausgeliehen werden (bi
 tte um Reservierung spätestens 1 Woche davor)\n\nAnmeldung\nAnmeldung per
  Mail an event@magixx.at oder auf\nhttp://www.magixx.at/?event=schneeschuh
 -wochenende-mit-huttnabend-am-schneeberg\nmaximal 11 Teilnehmer\n\nWir fre
 uen uns auf Deine Teilnahme.\nFür Fragen stehe ich sehr gerne unter event
 @magixx.at zur Verfügung.\n\nDein Peter\nBitte Bedingungen nach den Fotos
  beachten!\n[gallery link="file" columns="2" orderby="rand"]\nDie Teilnahm
 e am MagiXx Schneeschuh-Wochenende erfolgt auf eigene Gefahr und Verantwor
 tung\, für Verletzungen und Sachschäden wird keine Haftung übernommen.\
 nWitterungsbedingte Programmänderungen vorbehalten! Findet nur bei Erreic
 hen einer Mindestteilnehmerzahl statt.\n\nStornobedingungen\nBei Rücktrit
 t bis 2 Wochen vor Beginn des Aufenthaltes..............kostenfrei\nBei R
 ücktritt bis 3 Tage vor Beginn des Aufenthaltes..................€ 30\,
 --\nBei Rücktritt/Nichtantritt ab 2 Tage vor Beginn des Aufenthaltes .. 
 € 60\,-- Mehr anzeigen\n 
ATTACH;FMTTYPE=image/jpeg:https://i0.wp.com/www.magixx.at/wp-content/uploa
 ds/2012/11/DSC09824.jpg?fit=512%2C292&ssl=1
CATEGORIES:Natur + Erlebnis,Spezial
LOCATION:Schneeberg\, Losenheimer Straße 111 \, Puchberg am Schneeberg\, 
 Österreich
GEO:47.79182249999999;15.814892999999983
X-APPLE-STRUCTURED-LOCATION;VALUE=URI;X-ADDRESS=Losenheimer Straße 111 \, 
 Puchberg am Schneeberg\, Österreich;X-APPLE-RADIUS=100;X-TITLE=Schneeberg
 :geo:47.79182249999999,15.814892999999983
END:VEVENT
BEGIN:VTIMEZONE
TZID:Europe/Vienna
X-LIC-LOCATION:Europe/Vienna
BEGIN:STANDARD
DTSTART:20121028T020000
TZOFFSETFROM:+0200
TZOFFSETTO:+0100
TZNAME:CET
END:STANDARD
END:VTIMEZONE
END:VCALENDAR