BEGIN:VCALENDAR
VERSION:2.0
PRODID:-//wp-events-plugin.com//7.2.3.1//EN
TZID:Europe/Vienna
X-WR-TIMEZONE:Europe/Vienna
BEGIN:VEVENT
UID:27@magixx.at
DTSTART;TZID=Europe/Vienna:20130706T140000
DTEND;TZID=Europe/Vienna:20130706T210000
DTSTAMP:20130622T183357Z
URL:https://www.magixx.at/events/single-geocaching-finde-deinen-schatz/
SUMMARY:Single Geocaching - FINDE deinen Schatz - Ausgebucht
DESCRIPTION:LEIDER BEREITS AUSGEBUCHT\n\nSpieler dieses Spieles versuchen\,
  versteckte Behälter\, Geocaches genannt\, mithilfe eines Smartphone oder
  GPS- Gerätes zu finden.\n\nDiese moderne Schnitzeljagd wird in Kooperati
 on mit Walking an Talking - Heike Linamayer (Dipl. Lebensberaterin und Geo
 caching Expertin) durchgeführt.\n\nWas braucht man mit?\n\nZum Auffinden 
 reicht eigentlich ein einfacher GPS-Empfänger. Doch auch viele Notebooks\
 , PDAs\, mobile Navigationssysteme sowie Mobiltelefone mit integriertem od
 er externem GPS- Empfänger eignen sich für’s Geocaching. Apps für IPh
 ones\, Android oder andere Produkte sind einfach mit dem Suchbegriff ‚Ge
 ocaching‘\, bzw in Österreich mit ‚Geocaching Austria‘ im jeweilige
 n Store zu finden.\n\nNur für Singles! - Für Geocaching-Anfänger genau
 so wie für Fortgeschrittene geeignet!\n\nUnd idealerweise ist Dein neuer 
 Herzens-Schatz auch mit dabei....\nWeitere Details\nMindestens 20 Teilnehm
 ende\, etwa gleicher Frauen-Männer-Anteil\, Altersgruppe 30-50.\n\nDieser
  Event ist Bestens geeignet\, um sich bei der Suche nach dem Schatz (= Cac
 he) näher zu kommen und gemeinsam zu rätseln\, wo er sich befindet!\nNur
  für Singles - aber für Geocaching-Anfänger genauso wie für Fortgesch
 rittene geeignet!\nGeocaching ist lustig\, anregend\, bewegend\, rätselha
 ft und vielleicht Dein neues Hobby!\nUnser Programm\n\n	Vorstellungsrunde\
 n	Einführung ins Geocaching (sprich "geokäsching")\, Regeln und Tipps\n	
 Gemeinsam in Teams einen besonders interessanten "Cache" suchen und finden
 \n	Ankreuz-Zetterl um die sympathischsten Menschen wieder treffen zu könn
 en\n	Open End bei einem Getränk und Grillabend\n\nTeilnahmegebühr\n32 
 € Vorkasse (inkl. Abschlussgetränken nach Wahl)\n\nGenauer Treffpunkt u
 nd alle Infos folgen in der Woche vor dem Event an alle Angemeldeten (Ersa
 tztermin bei schlechtem Wetter)
ATTACH;FMTTYPE=image/jpeg:https://i0.wp.com/www.magixx.at/wp-content/uploa
 ds/2013/02/geocaching.jpg?fit=472%2C265&ssl=1
CATEGORIES:Natur + Erlebnis,Spezial
LOCATION:Mödling\, Mödling\, Mödling\, Österreich
GEO:48.08255;16.28690000000006
X-APPLE-STRUCTURED-LOCATION;VALUE=URI;X-ADDRESS=Mödling\, Mödling\, Öste
 rreich;X-APPLE-RADIUS=100;X-TITLE=Mödling:geo:48.08255,16.28690000000006
END:VEVENT
BEGIN:VTIMEZONE
TZID:Europe/Vienna
X-LIC-LOCATION:Europe/Vienna
BEGIN:DAYLIGHT
DTSTART:20130331T030000
TZOFFSETFROM:+0100
TZOFFSETTO:+0200
TZNAME:CEST
END:DAYLIGHT
END:VTIMEZONE
END:VCALENDAR