BEGIN:VCALENDAR
VERSION:2.0
PRODID:-//wp-events-plugin.com//7.2.3.1//EN
TZID:Europe/Vienna
X-WR-TIMEZONE:Europe/Vienna
BEGIN:VEVENT
UID:806@magixx.at
DTSTART;TZID=Europe/Vienna;VALUE=DATE:20260619
DTEND;TZID=Europe/Vienna;VALUE=DATE:20260622
DTSTAMP:20251020T064151Z
URL:https://www.magixx.at/events/spass-genuss-schlauchboot-tour-moldau-jun
 i-2026/
SUMMARY:Spass\, Genuss und Fluss - die Schlauchboot Tour auf der Moldau - J
 uni 2026
DESCRIPTION:Party\, Action\, Natur\, Spaß | buche eine tolle Bootstour mit
  Übernachtungen (Zimmer\, TIPI)\, Lagerfeuer\, Grill auf der Moldau | fü
 r Familie\, Firma\, Freunde\, als lustige Geburtstagsrunde
ATTACH;FMTTYPE=image/jpeg:https://i0.wp.com/www.magixx.at/wp-content/uploa
 ds/2017/04/Slider-Bootserlebnis-Moldau.png?fit=1000%2C330&ssl=1
CATEGORIES:Natur + Erlebnis
LOCATION:Moldau\, Krumau\, Krumau\, Tschechische Republik
GEO:48.81202880000001;14.316137300000036
X-APPLE-STRUCTURED-LOCATION;VALUE=URI;X-ADDRESS=Krumau\, Krumau\, Tschechis
 che Republik;X-APPLE-RADIUS=100;X-TITLE=Moldau:geo:48.81202880000001,14.31
 6137300000036
END:VEVENT
BEGIN:VTIMEZONE
TZID:Europe/Vienna
X-LIC-LOCATION:Europe/Vienna
BEGIN:DAYLIGHT
DTSTART:20260329T030000
TZOFFSETFROM:+0100
TZOFFSETTO:+0200
TZNAME:CEST
END:DAYLIGHT
END:VTIMEZONE
END:VCALENDAR