BEGIN:VCALENDAR
VERSION:2.0
PRODID:-//wp-events-plugin.com//7.2.3.1//EN
TZID:Europe/Vienna
X-WR-TIMEZONE:Europe/Vienna
BEGIN:VEVENT
UID:409@magixx.at
DTSTART;TZID=Europe/Vienna;VALUE=DATE:20160708
DTEND;TZID=Europe/Vienna;VALUE=DATE:20160711
DTSTAMP:20160310T114321Z
URL:https://www.magixx.at/events/spass-genuss-und-fluss-die-bootstour-auf-
 der-moldau-2/
SUMMARY:Spass\, Genuss und Fluss - die Bootstour auf der Moldau
DESCRIPTION:Fluss und Genuss\, Fluss\, Boot\, Raft\, Abenteuer
ATTACH;FMTTYPE=image/jpeg:https://i0.wp.com/www.magixx.at/wp-content/uploa
 ds/2012/06/Moldau.jpg?fit=800%2C535&ssl=1
CATEGORIES:Natur + Erlebnis,Party + Tanz
LOCATION:Moldau\, Krumau\, Krumau\, Tschechische Republik
GEO:48.81202880000001;14.316137300000036
X-APPLE-STRUCTURED-LOCATION;VALUE=URI;X-ADDRESS=Krumau\, Krumau\, Tschechis
 che Republik;X-APPLE-RADIUS=100;X-TITLE=Moldau:geo:48.81202880000001,14.31
 6137300000036
END:VEVENT
BEGIN:VTIMEZONE
TZID:Europe/Vienna
X-LIC-LOCATION:Europe/Vienna
BEGIN:DAYLIGHT
DTSTART:20160327T030000
TZOFFSETFROM:+0100
TZOFFSETTO:+0200
TZNAME:CEST
END:DAYLIGHT
END:VTIMEZONE
END:VCALENDAR