BEGIN:VCALENDAR
VERSION:2.0
PRODID:-//wp-events-plugin.com//7.2.3.1//EN
TZID:Europe/Vienna
X-WR-TIMEZONE:Europe/Vienna
BEGIN:VEVENT
UID:754@magixx.at
DTSTART;TZID=Europe/Vienna:20240626T180000
DTEND;TZID=Europe/Vienna:20240626T190000
DTSTAMP:20240604T080513Z
URL:https://www.magixx.at/events/tocatof-workshops-yunel-fiesta-latina-an-
 der-alten-donau-26-juni-2024/
SUMMARY:RUEDA FLOW Workshops mit Yunel bei der Fiesta Latina an der Alten D
 onau - Juni 2024
DESCRIPTION:Eine Herausforderung\, ein Training fürs Gehirn\, Spaß garant
 iert - das ist RUEDA FLOW -\njetzt auch bei der Fiesta Latina an der Alten
  Donau. Mit Yunel aus Cuba. Aber nur im Juni 2024!\nRueda Flow (auch TOCAD
 OF genannt) ist eine "flüssigere" Variante der Rueda Casino\, also schnel
 ler hintereinander folgende aber relativ einfache und kurze Figuren.\nAlso
  kommen und mitmachen &#x1f642\;\nNur für Leute die bereits Rueda tanzen!
 !\nJeden Mittwoch im Juni 2024. Anmeldung hier....\nPreis 15 Euro pro Aben
 d und pro Person\n 
ATTACH;FMTTYPE=image/jpeg:https://i0.wp.com/www.magixx.at/wp-content/uploa
 ds/2024/05/Fiesta-Latina-Rueda-Flow-Workshop-mit-Yunel-Juni-2024.png?fit=1
 080%2C1080&ssl=1
CATEGORIES:Party + Tanz
LOCATION:ASV Sportbad Alte Donau\, Arbeiterstrandbadstraße 87\, Wien\, 121
 0\, Österreich
GEO:48.245091;16.411924
X-APPLE-STRUCTURED-LOCATION;VALUE=URI;X-ADDRESS=Arbeiterstrandbadstraße 87
 \, Wien\, 1210\, Österreich;X-APPLE-RADIUS=100;X-TITLE=ASV Sportbad Alte 
 Donau:geo:48.245091,16.411924
END:VEVENT
BEGIN:VTIMEZONE
TZID:Europe/Vienna
X-LIC-LOCATION:Europe/Vienna
BEGIN:DAYLIGHT
DTSTART:20240331T030000
TZOFFSETFROM:+0100
TZOFFSETTO:+0200
TZNAME:CEST
END:DAYLIGHT
END:VTIMEZONE
END:VCALENDAR