BEGIN:VCALENDAR
VERSION:2.0
PRODID:-//wp-events-plugin.com//7.2.3.1//EN
TZID:Europe/Vienna
X-WR-TIMEZONE:Europe/Vienna
BEGIN:VEVENT
UID:713@magixx.at
DTSTART;TZID=Europe/Vienna:20231201T160000
DTEND;TZID=Europe/Vienna:20231202T210000
DTSTAMP:20231205T125746Z
URL:https://www.magixx.at/events/waldadvent-emmelpark-weihnachtsmarkt-2023
 -kaltenleutgeben-1/
SUMMARY:Waldadvent im Emmelpark | Weihnachtsmarkt 2023 in Kaltenleutgeben
DESCRIPTION:Punsch\, Kulinarik\, Kinderattraktionen und Geschenkideen - der
  stimmungsvolle Waldadvent in Kaltenleutgeben.\nGenuss\, gute Stimmung und
  Geschenke erwarten Dich am Weihnachtsmarkt in Kaltenleutgeben. Komm vorbe
 i.\nBereits das 3. Jahr findet auch heuer wieder der Waldadvent im Emmelpa
 rk in Kaltenleutgeben statt. In den Weihnachtshütten und bei den Ständen
  erwarten Dich nicht nur flüssige Köstlichkeiten\, wie Punsch\, Glühwei
 n und Liköre sondern auch ein schöne Geschenkideen.\nBalanceLife und Mag
 iXx Events verwöhnt mit\n\n 	Punsch\n 	Glühwein\n 	Likör\n 	Gulasch\n 	
 Kässpätzle\n 	100% natürlichen ätherischen Ölen\n 	natürliche Saunad
 üfte\n 	Gin Workshop Geschenkgutschein\n 	Parfum Workshop Gutschein\n 	Ar
 omaRelax Gutschein\n 	Zirbenkugeln\n\nDer Waldadvent findet an allen vier 
 Adventwochenenden statt. Die Eröffnung wird am 1. Dezember 2023 um 18 Uhr
  mit Illuminierung der neuen Weihnachtsbeleuchtung beim Rathaus in Kaltenl
 eugeben sein. Anschließend machen wir den Fackelzug im Emmelpark.\nÖffnu
 ngszeiten\nEröffnung 1 Dezember um 18 Uhr beim Rathaus und anschließend 
 im Emmelpark\n2. Dezember von 16 bis 22 Uhr\n8. und 9. Dezember von 16 bis
  22 Uhr\n15. und 16. Dezember von 16 bis 22 Uhr\n22. bis 23. Dezember von 
 16 bis 22 Uhr\n\n[embed]https://youtu.be/o9pqg9MVoUA[/embed]
ATTACH;FMTTYPE=image/jpeg:https://i0.wp.com/www.magixx.at/wp-content/uploa
 ds/2023/12/MagiXx-und-BalanceLife-Punschhuette-2023.jpg?fit=1184%2C2026&ss
 l=1
CATEGORIES:Spezial
LOCATION:Emmelpark\, Hauptstraße\, Kaltenleutgeben\, 2391\, Österreich
GEO:48.112935;16.182728
X-APPLE-STRUCTURED-LOCATION;VALUE=URI;X-ADDRESS=Hauptstraße\, Kaltenleutge
 ben\, 2391\, Österreich;X-APPLE-RADIUS=100;X-TITLE=Emmelpark:geo:48.11293
 5,16.182728
END:VEVENT
BEGIN:VTIMEZONE
TZID:Europe/Vienna
X-LIC-LOCATION:Europe/Vienna
BEGIN:STANDARD
DTSTART:20231029T020000
TZOFFSETFROM:+0200
TZOFFSETTO:+0100
TZNAME:CET
END:STANDARD
END:VTIMEZONE
END:VCALENDAR