BEGIN:VCALENDAR
VERSION:2.0
PRODID:-//wp-events-plugin.com//7.2.3.1//EN
TZID:Europe/Vienna
X-WR-TIMEZONE:Europe/Vienna
BEGIN:VEVENT
UID:688@magixx.at
DTSTART;TZID=Europe/Vienna:20221223T170000
DTEND;TZID=Europe/Vienna:20221223T220000
DTSTAMP:20221109T202558Z
URL:https://www.magixx.at/events/waldadvent-im-emmelpark-weihnachtsmarkt-2
 022-in-kaltenleutgeben/
SUMMARY:Waldadvent im Emmelpark | Weihnachtsmarkt 2022 in Kaltenleutgeben
DESCRIPTION:Punsch und Geschenkideen und tolle Stimmung - das ist der neue 
 Waldadvent in Kaltenleutgeben. Genuss\, gute Stimmung und Geschenke erwart
 en Dich am Weihnachtsmarkt in Kaltenleutgeben. Komm vorbei.\nNach dem fulm
 inanten und spontanen Start im Jahr 2021 findet nun auch heuer wieder der 
 Waldadvent im Emmelpark in Kaltenleutgeben statt. In den Weihnachtshütten
  und bei den Ständen erwarten Dich nicht nur flüssige Köstlichkeiten\, 
 wie Punsch\, Glühwein und Liköre sondern auch ein paar schöne Geschenki
 deen.\nBalanceLife und MagiXx Events verwöhnt mit\n\n 	Karibik Punsch\n 	
 Glühwein\n 	Likör\n 	Raclette\n 	Kaspressknödel\n 	100% natürlichen ä
 therischen Ölen\n 	natürliche Saunadüfte\n 	Gin Workshop Geschenkgutsch
 ein\n 	Parfum Workshop Gutschein\n 	AromaRelax Gutschein\n 	Zirbenkugeln\n
 \nDer Waldadvent findet an allen vier Adventwochenenden statt. Die Eröffn
 ung wird am 25. November 2022 um 18 Uhr mit Illuminierung der neuen Weihna
 chtsbeleuchtung beim Rathaus in Kaltenleugeben sein. Anschließend machen 
 wir den Fackelzug im Emmelpark.\nGeplante Öffnungszeiten\nEröffnung 25. 
 November um 18 Uhr beim Rathaus und anschließend im Emmelpark\n26. Novemb
 er von 17 bis 22 Uhr\n2. bis 3. Dezember von 17 bis 22 Uhr\n7. bis 10. Dez
 ember von 17 bis 22 Uhr\n16. bis 17. Dezember von 17 bis 22 Uhr\n23. Dezem
 ber von 17 bis 22 Uhr\n\n[embed]https://youtu.be/o9pqg9MVoUA[/embed]
ATTACH;FMTTYPE=image/jpeg:https://i0.wp.com/www.magixx.at/wp-content/uploa
 ds/2022/11/Fotolia_59520610_S_copyright.jpg?fit=850%2C605&ssl=1
CATEGORIES:Spezial
LOCATION:Emmelpark\, Hauptstraße\, Kaltenleutgeben\, 2391\, Österreich
GEO:48.112935;16.182728
X-APPLE-STRUCTURED-LOCATION;VALUE=URI;X-ADDRESS=Hauptstraße\, Kaltenleutge
 ben\, 2391\, Österreich;X-APPLE-RADIUS=100;X-TITLE=Emmelpark:geo:48.11293
 5,16.182728
END:VEVENT
BEGIN:VTIMEZONE
TZID:Europe/Vienna
X-LIC-LOCATION:Europe/Vienna
BEGIN:STANDARD
DTSTART:20221030T020000
TZOFFSETFROM:+0200
TZOFFSETTO:+0100
TZNAME:CET
END:STANDARD
END:VTIMEZONE
END:VCALENDAR