BEGIN:VCALENDAR
VERSION:2.0
PRODID:-//wp-events-plugin.com//7.2.3.1//EN
TZID:Europe/Vienna
X-WR-TIMEZONE:Europe/Vienna
BEGIN:VEVENT
UID:812@magixx.at
DTSTART;TZID=Europe/Vienna:20251219T160000
DTEND;TZID=Europe/Vienna:20251220T210000
DTSTAMP:20251214T090802Z
URL:https://www.magixx.at/events/waldadvent-kaltenleutgeben-2025-4/
SUMMARY:Waldadvent Kaltenleutgeben im Emmelpark mit Live Shows | Weihnachts
 markt 2025
DESCRIPTION:Waldadvent Kaltenleutgeben – ein Wochenende voller Musik\, Fe
 uer &amp\; Genuss\nAuch heuer lädt der Waldadvent im Emmelpark wieder zu 
 einem ganz besonderen Adventerlebnis ein.\nZwischen leuchtenden Bäumen\, 
 funkelnden Lichtern und duftenden Köstlichkeiten erwartet Besucherinnen u
 nd Besucher ein stimmungsvoller Mix aus Tradition\, Magie und Genuss.\nAm 
 kommenden Adventwochenende wird es besonders festlich – mit gleich zwei 
 besonderen Abendshows\, unterstützt von MagiXx Events und BalanceLife.\n\
 n\n\n\n&#x2728\; Freitag\, 19. Dezember – Swinging Christmas Live\nUm 18
 :30 Uhr erfüllt ein stimmungsvolles Duett aus Gesang und Piano den Emmelp
 ark mit weihnachtlichen Melodien.Joy begeistert mit ihrer warmen\, klaren
  Stimme\, während Tim am Piano eine elegante musikalische Begleitung scha
 fft.Gemeinsam schenken sie uns einen Abend voller „Swinging Christmas“
 -Atmosphäre – mal sanft\, mal beschwingt\, immer berührend.Ein musikal
 isches Highlight\, das perfekt in die Vorweihnachtszeit passt.\n \n\n\n\n\
 n&#x1f525\; Samstag\, 20. Dezember – Feuershow mit Vicky\nAm Samstag wir
 d es eindrucksvoll heiß:Um 18:30 Uhr präsentiert Vicky ihre kunstvolle F
 euershow – ein Zusammenspiel aus tänzerischer Eleganz\, fließenden Bew
 egungen und lodernen Flammen.Zu stimmungsvoller Musik lässt sie das Feuer
  tanzen und schafft Momente\, die man so schnell nicht vergisst.\nDa die S
 how kurz\, aber äußerst eindrucksvoll ist\, empfehlen wir:&#x1f449\; Rec
 htzeitig kommen und einen guten Platz sichern!\nDie Feuershow wird gespons
 ert von MagiXx Events und BalanceLife.\n \n\n\n\n\n&#x1f377\; Genuss &amp\
 ; Geschenkideen beim Waldadvent\nNatürlich verwöhnen dich auch heuer wie
 der viele Stände mit winterlichen Klassikern und kleinen Besonderheiten:\
 n\n\n 	Peter's Apfelstrudel Punsch\n 	Uhudler Glühwein \n 	Liköre\, Hei
 ße Witwe\, Schneewittchen &amp\; weitere wärmende Köstlichkeiten\n 	Rac
 lette und Käsespätzle\n\nUnd für alle\, die noch auf der Suche nach ein
 em kleinen Weihnachtsgeschenk sind\, gibt es bei unserer BalanceLife / Pet
 er's Hütte:\n\n\n 	Natürliche Saunadüfte\n 	Aroma RollOns / Aromasticks
 \n 	Stimmungsvolle\, natürliche Geschenke für Wohlbefinden &amp\; Entspa
 nnung.\n\n\n\n\n&#x1f4cd\; Öffnungszeiten\nDer Waldadvent findet jeden Fr
 eitag und Samstag im Advent sowie zusätzlich am 23. Dezember statt – je
 weils von 16 bis 21 Uhr.\n\n\n\n\n&#x2728\; Wir freuen uns auf ein magisch
 es Adventwochenende!\nOb gemütlicher Punschabend\, festliche Musik oder F
 euershow unter dem Sternenhimmel – der Waldadvent in Kaltenleutgeben bie
 tet besondere Momente für die ganze Familie.Komm vorbei\, genieße die At
 mosphäre und lass dich in Weihnachtsstimmung bringen!\n\n\n\n\nPunsch\, K
 ulinarik\, Kinderattraktionen und Geschenkideen - der stimmungsvolle Walda
 dvent Kaltenleutgeben.\nGenuss\, gute Stimmung und Geschenke erwarten Dich
  am Weihnachtsmarkt in Kaltenleutgeben. Komm vorbei.\nBereits das 5. Jahr 
 findet auch heuer wieder der Waldadvent im Emmelpark in Kaltenleutgeben st
 att. In den Weihnachtshütten und bei den Ständen erwarten Dich nicht nur
  flüssige Köstlichkeiten\, wie Punsch\, Glühwein und Liköre sondern au
 ch ein paar schöne Geschenkideen.\nBalanceLife und MagiXx Events verwöhn
 t mit\n\n 	Unser bewährter Punsch\n 	andere köstliche Heißgetränke\n 	
 Glühwein\n 	Likören\n 	Raclettebroten und anderen Köstlichkeiten\n 	100
 % natürlichen ätherischen Ölen\n 	natürliche Saunadüfte\n 	Gin Worksh
 op Geschenkgutschein\n 	Parfum Workshop Gutschein\n 	AromaRelax Gutschein\
 n\nDer Waldadvent findet an allen vier Adventwochenenden statt.\nDie Eröf
 fnung findet am 28. November 2025 um 18 Uhr mit Illuminierung der Weihnach
 tsbeleuchtung beim Rathaus in Kaltenleutgeben statt.\nAnschließend gibt e
 s den Fackelzug in den Emmelpark. Hier werden die Hütten und Stände um 1
 8:00 eröffnet.\nÖffnungszeiten\nEröffnung Freitag\, 28. November um 18 
 Uhr beim Rathaus und anschließend bis 21:00 im Emmelpark\nSamstag\, 29. N
 ovember von 16 bis 21 Uhr\nFreitag\, 5. und Samstag\, 6. und Sonntag 7. De
 zember von 16 bis 21 Uhr\nFreitag\, 12. und Samstag\, 13. Dezember von 16 
 bis 21 Uhr\nFreitag\, 19. und Samstag\, 20. Dezember von 16 bis 21 Uhr\nDi
 enstag\, 23. Dezember von 16 bis 21 Uhr\n\n[embed]https://youtu.be/o9pqg9M
 VoUA[/embed]
ATTACH;FMTTYPE=image/jpeg:https://i0.wp.com/www.magixx.at/wp-content/uploa
 ds/2025/10/Foto-Waldadvent-Huette-scaled.jpg?fit=2560%2C1920&ssl=1
CATEGORIES:Spezial
LOCATION:Emmelpark\, Hauptstraße\, Kaltenleutgeben\, 2391\, Österreich
GEO:48.112935;16.182728
X-APPLE-STRUCTURED-LOCATION;VALUE=URI;X-ADDRESS=Hauptstraße\, Kaltenleutge
 ben\, 2391\, Österreich;X-APPLE-RADIUS=100;X-TITLE=Emmelpark:geo:48.11293
 5,16.182728
END:VEVENT
BEGIN:VTIMEZONE
TZID:Europe/Vienna
X-LIC-LOCATION:Europe/Vienna
BEGIN:STANDARD
DTSTART:20251026T020000
TZOFFSETFROM:+0200
TZOFFSETTO:+0100
TZNAME:CET
END:STANDARD
END:VTIMEZONE
END:VCALENDAR