BEGIN:VCALENDAR
VERSION:2.0
PRODID:-//wp-events-plugin.com//7.2.3.1//EN
TZID:Europe/Vienna
X-WR-TIMEZONE:Europe/Vienna
BEGIN:VEVENT
UID:19@magixx.at
DTSTART;TZID=Europe/Vienna;VALUE=DATE:20130308
DTEND;TZID=Europe/Vienna;VALUE=DATE:20130312
DTSTAMP:20130105T095558Z
URL:https://www.magixx.at/events/winter-fun-tauplitz-2/
SUMMARY:Winter Fun Tage März 2013 - Tauplitz
DESCRIPTION: 2 bis 3 Tage Ski- und Berggenuss auf 1.600m\nmit Iglu bauen 
 und diversen weiteren MagiXx Winter-Fun-Aktivitäten\nDu wohnst direkt auf
  der im Winter autofreien Tauplitzalm\, mitten im Skigebiet. Das garantier
 t Pistenspaß von der ersten Minute bis zur letzten\, denn die Liftanlagen
  rund um unser Hotel bringen Dich bequem in alle Teile des Skigebietes. Be
 sonders die 8er-Kabinenbahn Mitterstein mit ihren weitläufigen Pisten wir
 d Dich begeistern!\n\nIm Haus erwarten Dich gemütlich und modern ausgesta
 ttete Zimmer mit Dusche\, WC\, Haarfön\, Telefon und Sat-TV. Nach einem e
 rlebnisreichen Urlaubstag tankst Du in einer der beiden Saunen Energie und
  lasst dich von der ausgezeichneten Küche verwöhnen. Ein ausgesuchtes We
 inangebot bietet hauptsächlich österreichische Weine in günstiger bis m
 ittlerer Preisklasse. NEU ab Winter 2012/13: 100 m² Wohlfühlbereich mit 
 2 Saunen\, Infrarot-Kabine\, Ruheraum und Massageraum\, Personenlift\, neu
 er Speisesaal mit Lounge!\n\nUnser Angebot inkl. aller Side-Events:\n\n	2 
 - 3 Übernachtungen mit Halbpension im Doppelzimmer zur Südseite mit Bal
 kon\n	Power-Frühstück für einen guten Start in den Tag – mit Müsliba
 r\, Bauernbrot\, Vollkorngebäck\, Schinken\, Käse\, Aufstrichen\, versch
 iedenen Säften\, kristallklarem Quellwasser u.v.m.\n	Verwöhn-Menü am Ab
 end – 4-Gang-Menü bestehend aus Vorspeise\, Suppe\, 3 versch. Hauptgeri
 chten zur Auswahl und Dessert. Viele der sorgfältig ausgesuchten Lebensmi
 ttel stammen aus unserer Region.\n	Benützung des Wohlfühlbereichs mit Ru
 heraum im Haus\n	Transfer vom/zum Parkplatz Tauplitzalm bei An- und Abreis
 e\n	Preisvorteil bei Skischule und Skiverleih\n	2 bis 3-Tages-Skipass\n	pr
 ofessionelle Betreuung durch einen diplomierten Freizeit- &amp\; Outdoorgu
 ide\n\nSamstag 9.3. bis Montag 11.3.2013 zum Sonderpreis von nur € 245
 \,00 pro Person im DZ\, EZ auf Anfrage\n\nFreitag 8.3. bis Montag 11.3.201
 3 zum Sonderpreis von nur € 340\,00 pro Person im DZ\, EZ auf Anfrage\
 n\nBitte beachte\, dass zusätzlich folgende Kosten anfallen:\nOrtstaxe (
 € 1\,00 pro Erwachsenem/Nacht)\nMautgebühr für die Tauplitzalm-Alpenst
 raße bei Anreise (€ 9\,80 pro Pkw) und Parkgebühr (€ 26\,50 pro Woch
 e).\n\nEin eigener Raum für unsere Gruppe steht zur Verfügung.\n\n[galle
 ry orderby="rand"]\n\n\n\nEs gelten die AGBH (Allgemeine Geschäftsbedingu
 ngen für die Hotellerie). Das bedeutet:\n\nBis 3 Monate vor Anreise könn
 en Sie kostenlos stornieren. Ab 3 Monaten bis 1 Monat vor Anreise beträgt
  die Stornogebühr 40 % des Buchungspreises.\nAb 1 Monat bis 1 Woche vor A
 nreise beträgt die Stornogebühr 70 % des Buchungspreises.\nBei einer Abs
 age innerhalb der letzten Woche vor Anreise stellen wir Ihnen 90 % des Buc
 hungspreises in Rechnung.\n\nWeil das Leben nicht immer so spielt wie man 
 das gerne hätte\, besonders wenn es um den wohlverdienten Urlaub geht\, e
 mpfehlen wir die Hotelstorno Plus Versicherung. \n\nDie Versicherungspräm
 ie beträgt 5 % vom Gesamtreisepreis.
ATTACH;FMTTYPE=image/jpeg:https://i0.wp.com/www.magixx.at/wp-content/uploa
 ds/2012/08/tauplitzalm3.jpg?fit=647%2C486&ssl=1
CATEGORIES:Party + Tanz
LOCATION:Tauplitzalm\, Tauplitzalm\, Tauplitzalm\, Österreich
GEO:47.5940716;14.000776200000018
X-APPLE-STRUCTURED-LOCATION;VALUE=URI;X-ADDRESS=Tauplitzalm\, Tauplitzalm\,
  Österreich;X-APPLE-RADIUS=100;X-TITLE=Tauplitzalm:geo:47.5940716,14.0007
 76200000018
END:VEVENT
BEGIN:VTIMEZONE
TZID:Europe/Vienna
X-LIC-LOCATION:Europe/Vienna
BEGIN:STANDARD
DTSTART:20121028T020000
TZOFFSETFROM:+0200
TZOFFSETTO:+0100
TZNAME:CET
END:STANDARD
END:VTIMEZONE
END:VCALENDAR