BEGIN:VCALENDAR
VERSION:2.0
PRODID:-//wp-events-plugin.com//7.2.3.1//EN
TZID:Europe/Vienna
X-WR-TIMEZONE:Europe/Vienna
BEGIN:VEVENT
UID:13@magixx.at
DTSTART;TZID=Europe/Vienna;VALUE=DATE:20130309
DTEND;TZID=Europe/Vienna;VALUE=DATE:20130317
DTSTAMP:20120912T053057Z
URL:https://www.magixx.at/events/winter-fun-tauplitz/
SUMMARY:Winter & Fun - Tauplitz
DESCRIPTION: 7 Tage Ski- und Berggenuss auf 1.600m\nmit Iglu bauen und div
 ersen weiteren MagiXx Winter-Fun-Aktivitäten\nDu wohnst direkt auf der im
  Winter autofreien Tauplitzalm\, mitten im Skigebiet. Das garantiert Piste
 nspaß von der ersten Minute bis zur letzten\, denn die Liftanlagen rund u
 m unser Hotel bringen Dich bequem in alle Teile des Skigebietes. Besonders
  die 8er-Kabinenbahn Mitterstein mit ihren weitläufigen Pisten wird Dich 
 begeistern!\n\nIm Haus erwarten Dich gemütlich und modern ausgestattete Z
 immer mit Dusche\, WC\, Haarfön\, Telefon und Sat-TV. Nach einem erlebnis
 reichen Urlaubstag tankst Du in einer der beiden Saunen Energie und lasst 
 dich von der ausgezeichneten Küche verwöhnen. Ein ausgesuchtes Weinangeb
 ot bietet hauptsächlich österreichische Weine in günstiger bis mittlere
 r Preisklasse. NEU ab Winter 2012/13: 100 m² Wohlfühlbereich mit 2 Saune
 n\, Infrarot-Kabine\, Ruheraum und Massageraum\, Personenlift\, neuer Spei
 sesaal mit Lounge!\n\nUnser Angebot inkl. aller Side-Events:\n\n	7 Überna
 chtungen mit Halbpension im Doppelzimmer zur Südseite mit Balkon\n	Power-
 Frühstück für einen guten Start in den Tag – mit Müslibar\, Bauernbr
 ot\, Vollkorngebäck\, Schinken\, Käse\, Aufstrichen\, verschiedenen Säf
 ten\, kristallklarem Quellwasser u.v.m.\n	Verwöhn-Menü am Abend – 4-Ga
 ng-Menü bestehend aus Vorspeise\, Suppe\, 3 versch. Hauptgerichten zur Au
 swahl und Dessert. Viele der sorgfältig ausgesuchten Lebensmittel stammen
  aus unserer Region.\n	Benützung des Wohlfühlbereichs mit Ruheraum im Ha
 us\n	Transfer vom/zum Parkplatz Tauplitzalm bei An- und Abreise\n	Preisvor
 teil bei Skischule und Skiverleih\n	6-Tages-Skipass\n	professionelle Betre
 uung durch einen diplomierten Freizeit- &amp\; Outdoorguide\n\nAlles zum S
 onderpreis von nur € 660\,00 pro Person im DZ und € 730\,00 im EZ\n\n
 Bitte beachte\, dass zusätzlich folgende Kosten anfallen:\nOrtstaxe (€ 
 1\,00 pro Erwachsenem/Nacht)\nMautgebühr für die Tauplitzalm-Alpenstraß
 e bei Anreise (€ 9\,80 pro Pkw) und Parkgebühr (€ 26\,50 pro Woche).\
 n\nEin eigener Raum für unsere Gruppe steht zur Verfügung.\n\n[gallery o
 rderby="rand"]\n\n\n\nEs gelten die AGBH (Allgemeine Geschäftsbedingungen
  für die Hotellerie). Das bedeutet:\n\nBis 3 Monate vor Anreise können S
 ie kostenlos stornieren. Ab 3 Monaten bis 1 Monat vor Anreise beträgt die
  Stornogebühr 40 % des Buchungspreises.\nAb 1 Monat bis 1 Woche vor Anrei
 se beträgt die Stornogebühr 70 % des Buchungspreises.\nBei einer Absage 
 innerhalb der letzten Woche vor Anreise stellen wir Ihnen 90 % des Buchung
 spreises in Rechnung.\n\nWeil das Leben nicht immer so spielt wie man das 
 gerne hätte\, besonders wenn es um den wohlverdienten Urlaub geht\, empfe
 hlen wir die Hotelstorno Plus Versicherung. \n\nDie Versicherungsprämie b
 eträgt 5 % vom Gesamtreisepreis.
CATEGORIES:Natur + Erlebnis
LOCATION:Tauplitzalm\, Tauplitzalm\, Tauplitzalm\, Österreich
GEO:47.5940716;14.000776200000018
X-APPLE-STRUCTURED-LOCATION;VALUE=URI;X-ADDRESS=Tauplitzalm\, Tauplitzalm\,
  Österreich;X-APPLE-RADIUS=100;X-TITLE=Tauplitzalm:geo:47.5940716,14.0007
 76200000018
END:VEVENT
BEGIN:VTIMEZONE
TZID:Europe/Vienna
X-LIC-LOCATION:Europe/Vienna
BEGIN:STANDARD
DTSTART:20121028T020000
TZOFFSETFROM:+0200
TZOFFSETTO:+0100
TZNAME:CET
END:STANDARD
END:VTIMEZONE
END:VCALENDAR