BEGIN:VCALENDAR
VERSION:2.0
PRODID:-//wp-events-plugin.com//7.2.3.1//EN
TZID:Europe/Vienna
X-WR-TIMEZONE:Europe/Vienna
BEGIN:VEVENT
UID:20@magixx.at
DTSTART;TZID=Europe/Vienna:20130124T190000
DTEND;TZID=Europe/Vienna:20130124T210000
DTSTAMP:20121202T151411Z
URL:https://www.magixx.at/events/zeit-fur-mich-praxisworkshop-entspannung-
 und-balance/
SUMMARY:Zeit für mich - Praxisworkshop Entspannung und Balance
DESCRIPTION:Der Workshop bietet in komprimierter Form praktische Tools zum 
 Erkennen des persönlichen Wohlfühltempos\, dem ICH-Tempo und Methoden zu
 r Entschleunigung und Entspannung.\n\n\n\nSchenken Sie sich Zeit und entd
 ecken Sie\n\n	Ihr persönliches Wohlfühltempo\n	einfache Methoden und We
 rkzeuge zur Entschleunigung und Entspannung\n	sanfte (Selbst-)Massagetechn
 iken und Energiearbeit (TCM)\n	Genuss- und Aromatraining (Überblick - wa
 s ist es\, was kann es)\n	Ihre Gesundheitsvorsorge für Geist und Körper\
 n\nMit qualitativer ICH-Zeit zu mehr Energie\, guter Stimmung und einem
  gesteigerten Wohlbefinden.\n\nDetails: Flyer Zeit fuer mich Workshop zum
  Downloaden\, weitersenden …\nPreis\n15\,-/Person\nAnmeldungen\nhttp://w
 ww.magixx.at/?event=zeit-fur-mich-praxisworkshop-entspannung-und-balance 
 (also hier)\noder per Mail an sabine.puerer@shulo.at oder peter.gstettner
 @balancelife.at\n\nSabine Pürer\nerreicht als Mutter von 3 Kindern und fr
 eiberuflich tätig\, oft ihre Zeit-Grenzen. Ausgebildet als DGKS\, Shiatsu
 /Tuina-Praktikerin und Lo-Feng-Shui Beraterin arbeitet sie im Case Managem
 ent und als Therapeutin in der Prävention.\nTermine und Anmeldungen auf\n
 www.shulo.at\n\nPeter Gstettner\nist Trainer\, Unternehmer\, Genussberate
 r sowie Outdoor- und Freizeit Guide und lebt derzeit in Wien. Er beschäft
 igt sich seit Jahren mit den Themen Zeit\, Genuss und Wegen dem Burnout z
 u entkommen oder besser es rechtzeitig zu verhindern. Seminare\, Tipps\, T
 ests und Termine auf\nwww.balancelife.at
ATTACH;FMTTYPE=image/jpeg:https://i0.wp.com/www.magixx.at/wp-content/uploa
 ds/2012/10/Zeit-fuer-mich-Flyer-2012-V2.jpg?fit=1156%2C835&ssl=1
CATEGORIES:Natur + Erlebnis,Spezial
LOCATION:Seminarraum Shulo / VHS Ebreichsdorf\, Hauptplatz 13\, Ebreichsdor
 f\, 2483\, Österreich
GEO:47.9629223;16.40092900000002
X-APPLE-STRUCTURED-LOCATION;VALUE=URI;X-ADDRESS=Hauptplatz 13\, Ebreichsdor
 f\, 2483\, Österreich;X-APPLE-RADIUS=100;X-TITLE=Seminarraum Shulo / VHS 
 Ebreichsdorf:geo:47.9629223,16.40092900000002
END:VEVENT
BEGIN:VTIMEZONE
TZID:Europe/Vienna
X-LIC-LOCATION:Europe/Vienna
BEGIN:STANDARD
DTSTART:20121028T020000
TZOFFSETFROM:+0200
TZOFFSETTO:+0100
TZNAME:CET
END:STANDARD
END:VTIMEZONE
END:VCALENDAR