BEGIN:VCALENDAR
VERSION:2.0
PRODID:-//wp-events-plugin.com//7.2.3.1//EN
TZID:Europe/Vienna
X-WR-TIMEZONE:Europe/Vienna
BEGIN:VEVENT
UID:16@magixx.at
DTSTART;TZID=Europe/Vienna:20121128T190000
DTEND;TZID=Europe/Vienna:20121128T210000
DTSTAMP:20121110T002558Z
URL:https://www.magixx.at/events/zeit-fur-mich-praxisworkshop/
SUMMARY:Zeit für mich - Praxisworkshop Entspannung und Balance
DESCRIPTION:Der Workshop bietet in komprimierter Form praktische Tools zum 
 Erkennen des persönlichen Wohlfühltempos\, dem ICH-Tempo und Methoden zu
 r Entschleunigung und Entspannung.\n\nSchenken Sie sich Zeit und entdecke
 n Sie\n\n	Ihr persönliches Wohlfühltempo\n	einfache Methoden und Werkze
 uge zur Entschleunigung und Entspannung\n	sanfte (Selbst-)Massagetechniken
  (aus der TCM)\n	Ihre Gesundheitsvorsorge für Geist und Körper\n\nDurch 
 qualitativ verbrachte ICH-Zeit erhältst Du mehr Energie\, gute Stimmung u
 nd ein gesteigertes Wohlbefinden.\n\nDetails: Flyer Zeit fuer mich Worksho
 p zum Downloaden\, weitersenden ...\nPreis\n15\,-/Person\nAnmeldungen\nbi
 tte per Mail an sabine.puerer@shulo.at oder peter.gstettner@balancelife.at
 \n\nSabine Pürer\nerreicht als Mutter von 3 Kindern und freiberuflich tä
 tig\, oft ihre Zeit-Grenzen. Ausgebildet als DGKS\, Shiatsu/Tuina-Praktike
 rin und Lo-Feng-Shui Beraterin arbeitet sie im Case Management und als The
 rapeutin in dre Prävention.\n\nPeter Gstettner\nhat Burnout am und im eig
 enen Körper erlebt. Er ist Unternehmer\, IT-Consultant\, Trainer\, Eventm
 anager sowie Outdoor- und Freizeit Guide.
ATTACH;FMTTYPE=image/jpeg:https://i0.wp.com/www.magixx.at/wp-content/uploa
 ds/2012/10/Zeit-fuer-mich-Flyer-2012-V2.jpg?fit=1156%2C835&ssl=1
CATEGORIES:Natur + Erlebnis,Spezial
LOCATION:Seminarraum Cafe-Hotel Waiz \, Hauptplatz 9\, Unterwaltersdorf\, 
 Österreich
GEO:47.960095;16.431225499999982
X-APPLE-STRUCTURED-LOCATION;VALUE=URI;X-ADDRESS=Hauptplatz 9\, Unterwalters
 dorf\, Österreich;X-APPLE-RADIUS=100;X-TITLE=Seminarraum Cafe-Hotel Waiz 
 :geo:47.960095,16.431225499999982
END:VEVENT
BEGIN:VTIMEZONE
TZID:Europe/Vienna
X-LIC-LOCATION:Europe/Vienna
BEGIN:STANDARD
DTSTART:20121028T020000
TZOFFSETFROM:+0200
TZOFFSETTO:+0100
TZNAME:CET
END:STANDARD
END:VTIMEZONE
END:VCALENDAR