BEGIN:VCALENDAR
VERSION:2.0
PRODID:-//wp-events-plugin.com//7.2.3.1//EN
TZID:Europe/Vienna
X-WR-TIMEZONE:Europe/Vienna
BEGIN:VEVENT
UID:374@magixx.at
DTSTART;TZID=Europe/Vienna:20140818T180000
DTEND;TZID=Europe/Vienna:20140818T185500
DTSTAMP:20140602T082739Z
URL:https://www.magixx.at/events/zumba-afterwork-im-cc-montag-2014-08-18/
SUMMARY:ZUMBA AfterWork im C&C - Montag
DESCRIPTION:ACHTUNG Änderung der Beginnzeit!\n\nJeden Montag um 18:00 gibt
  es ein tolles AfterWork Zumba im C&amp\;C am Wienerberg. Es gibt keine ko
 mplizierten Choreografien sondern tolle Moves und eine angenehme\, bewege
 nde Musik die zum Mitmachen animiert.\n\nMir sind Gefühl und Spaß sehr 
 wichtig dabei\, Perfektionismus ist nicht so wichtig\, wie die Freude an d
 er Bewegung und an dem Rhythmus.\n\nGenieße nach dem Zumba auch die Sauna
 . Kostenlose Parkplätze sind vorhanden.\n\nPreis: 7\,50 Euro pro Einheit\
 n\nIch freue mich auf Dein Kommen ...\n\nDein Trainer Peter\n\nhttp://www.
 cityandcountry.eu/de/wienerberg/wienerberg
ATTACH;FMTTYPE=image/jpeg:https://i0.wp.com/www.magixx.at/wp-content/uploa
 ds/2013/01/Zumba-Fitness.jpg?fit=300%2C338&ssl=1
CATEGORIES:Party + Tanz,Spezial
LOCATION:C&C Wienerberg\, Gutheil-Schoder-G. 7a\, Wien\, 1100\, Österreich
GEO:48.1632547;16.339266599999973
X-APPLE-STRUCTURED-LOCATION;VALUE=URI;X-ADDRESS=Gutheil-Schoder-G. 7a\, Wie
 n\, 1100\, Österreich;X-APPLE-RADIUS=100;X-TITLE=C&C Wienerberg:geo:48.16
 32547,16.339266599999973
END:VEVENT
BEGIN:VTIMEZONE
TZID:Europe/Vienna
X-LIC-LOCATION:Europe/Vienna
BEGIN:DAYLIGHT
DTSTART:20140330T030000
TZOFFSETFROM:+0100
TZOFFSETTO:+0200
TZNAME:CEST
END:DAYLIGHT
END:VTIMEZONE
END:VCALENDAR