BEGIN:VCALENDAR
VERSION:2.0
PRODID:-//wp-events-plugin.com//7.2.3.1//EN
TZID:Europe/Vienna
X-WR-TIMEZONE:Europe/Vienna
BEGIN:VEVENT
UID:291@magixx.at
DTSTART;TZID=Europe/Vienna:20140930T093000
DTEND;TZID=Europe/Vienna:20140930T102000
DTSTAMP:20140106T081003Z
URL:https://www.magixx.at/events/zumba-gold-im-cc-dienstag-2014-09-30/
SUMMARY:ZUMBA Gold im C&C - Dienstag
DESCRIPTION:Jeden Dienstag um 9:30 gibt es eine Einheit ZUMBA Gold im C&amp
 \;C am Wienerberg. Es gibt keine komplizierten Choreografien sondern einfa
 che Bewegungen und eine angenehme\, bewegende Musik die zum Mitmachen an
 imiert.\n\nMir sind Gefühl und Spaß sehr wichtig dabei\, Perfektionismus
  ist nicht so wichtig\, wie die Freude an der Bewegung und an dem Rhythmus
 .\n\nMit dem einfachen Programm kannst du dich in deinem eigenen Tempo zur
  Musik bewegen. Es ist ein belebender\, gemeinschaftsorientierter Tanzfitn
 esskurs\, der lebendig und vor allem mitreißend ist. Zumba Gold® Kurse b
 einhalten abgewandelte\, Low Impact Bewegungen für aktive ältere Erwachs
 ene.\n\nGenieße nach dem Zumba auch die Sauna. Kostenlose Parkplätze sin
 d vorhanden.\n\nPreis: 7\,50 Euro pro Einheit\n\nIch freue mich auf Dein K
 ommen ...\n\nDein Trainer Peter\n\nhttp://www.cityandcountry.eu/de/wienerb
 erg/wienerberg
ATTACH;FMTTYPE=image/jpeg:https://i0.wp.com/www.magixx.at/wp-content/uploa
 ds/2014/01/ZumbaGold.jpg?fit=1508%2C1195&ssl=1
CATEGORIES:Party + Tanz
LOCATION:C&C Wienerberg\, Gutheil-Schoder-G. 7a\, Wien\, 1100\, Österreich
GEO:48.1632547;16.339266599999973
X-APPLE-STRUCTURED-LOCATION;VALUE=URI;X-ADDRESS=Gutheil-Schoder-G. 7a\, Wie
 n\, 1100\, Österreich;X-APPLE-RADIUS=100;X-TITLE=C&C Wienerberg:geo:48.16
 32547,16.339266599999973
END:VEVENT
BEGIN:VTIMEZONE
TZID:Europe/Vienna
X-LIC-LOCATION:Europe/Vienna
BEGIN:DAYLIGHT
DTSTART:20140330T030000
TZOFFSETFROM:+0100
TZOFFSETTO:+0200
TZNAME:CEST
END:DAYLIGHT
END:VTIMEZONE
END:VCALENDAR