BEGIN:VCALENDAR
VERSION:2.0
PRODID:-//wp-events-plugin.com//7.2.3.1//EN
TZID:Europe/Vienna
X-WR-TIMEZONE:Europe/Vienna
BEGIN:VEVENT
UID:21@magixx.at
DTSTART;TZID=Europe/Vienna:20130122T180000
DTEND;TZID=Europe/Vienna:20130122T190000
DTSTAMP:20130121T123907Z
URL:https://www.magixx.at/events/zumba-im-cc-wienerberg/
SUMMARY:Zumba im C&C Wienerberg
DESCRIPTION:Zumba® ist für jeden geeignet\, der Stress und überflüssige
  Pfunde ohne großen Aufwand einfach ”wegtanzen” möchte.\n\nBei heiß
 er\, leidenschaftlicher Musik wird der Körper gestrafft und die Kondition
  verbessert. Die Abfolge der Schritte und Drehungen ist schnell und leicht
  erlernbar\, man muss nicht tanzen können und braucht auch keine/n Tanzpa
 rtnerIn!\n\nJeden Dienstag und Donnerstag im C&amp\;C am Wienerberg.\n\nMi
 t Concetta (meist Donnerstag) oder Peter (meist Dienstag)\n\nJede Einheit 
 kostet 7\,50 Euro. Eine Anmeldung ist nicht erforderlich.\n\nWeitere Infos
  auch auf http://www.magixx.at/?p=1235
CATEGORIES:Party + Tanz,Spezial
LOCATION:C&amp\;C Wienerberg\, Gutheil-Schoder-G. 7a\, Wien\, 1100\, Öster
 reich
GEO:48.1632547;16.339266599999973
X-APPLE-STRUCTURED-LOCATION;VALUE=URI;X-ADDRESS=Gutheil-Schoder-G. 7a\, Wie
 n\, 1100\, Österreich;X-APPLE-RADIUS=100;X-TITLE=C&C Wienerberg:geo:48.16
 32547,16.339266599999973
END:VEVENT
BEGIN:VTIMEZONE
TZID:Europe/Vienna
X-LIC-LOCATION:Europe/Vienna
BEGIN:STANDARD
DTSTART:20121028T020000
TZOFFSETFROM:+0200
TZOFFSETTO:+0100
TZNAME:CET
END:STANDARD
END:VTIMEZONE
END:VCALENDAR